BEGIN:VCALENDAR
VERSION:2.0
PRODID:-//Eastern Meadows Church of Christ - ECPv6.15.20//NONSGML v1.0//EN
CALSCALE:GREGORIAN
METHOD:PUBLISH
X-ORIGINAL-URL:https://easternmeadows.org
X-WR-CALDESC:Events for Eastern Meadows Church of Christ
REFRESH-INTERVAL;VALUE=DURATION:PT1H
X-Robots-Tag:noindex
X-PUBLISHED-TTL:PT1H
BEGIN:VTIMEZONE
TZID:America/Chicago
BEGIN:DAYLIGHT
TZOFFSETFROM:-0600
TZOFFSETTO:-0500
TZNAME:CDT
DTSTART:20240310T080000
END:DAYLIGHT
BEGIN:STANDARD
TZOFFSETFROM:-0500
TZOFFSETTO:-0600
TZNAME:CST
DTSTART:20241103T070000
END:STANDARD
BEGIN:DAYLIGHT
TZOFFSETFROM:-0600
TZOFFSETTO:-0500
TZNAME:CDT
DTSTART:20250309T080000
END:DAYLIGHT
BEGIN:STANDARD
TZOFFSETFROM:-0500
TZOFFSETTO:-0600
TZNAME:CST
DTSTART:20251102T070000
END:STANDARD
BEGIN:DAYLIGHT
TZOFFSETFROM:-0600
TZOFFSETTO:-0500
TZNAME:CDT
DTSTART:20260308T080000
END:DAYLIGHT
BEGIN:STANDARD
TZOFFSETFROM:-0500
TZOFFSETTO:-0600
TZNAME:CST
DTSTART:20261101T070000
END:STANDARD
END:VTIMEZONE
BEGIN:VEVENT
DTSTART;TZID=America/Chicago:20250727T090000
DTEND;TZID=America/Chicago:20250727T094500
DTSTAMP:20260424T041316
CREATED:20250602T023954Z
LAST-MODIFIED:20250602T023954Z
UID:34420-1753606800-1753609500@easternmeadows.org
SUMMARY:Bible Class
DESCRIPTION:
URL:https://easternmeadows.org/event/bible-class-260/
LOCATION:Eastern Meadows Church of Christ\, 8460 Vaughn Road\, Montgomery\, AL\, 36117\, United States
CATEGORIES:Public
END:VEVENT
BEGIN:VEVENT
DTSTART;TZID=America/Chicago:20250727T100000
DTEND;TZID=America/Chicago:20250727T110000
DTSTAMP:20260424T041316
CREATED:20250602T024015Z
LAST-MODIFIED:20250602T024015Z
UID:34421-1753610400-1753614000@easternmeadows.org
SUMMARY:AM Worship
DESCRIPTION:
URL:https://easternmeadows.org/event/am-worship-293/
LOCATION:Eastern Meadows Church of Christ\, 8460 Vaughn Road\, Montgomery\, AL\, 36117\, United States
CATEGORIES:Public
END:VEVENT
BEGIN:VEVENT
DTSTART;TZID=America/Chicago:20250727T170000
DTEND;TZID=America/Chicago:20250727T180000
DTSTAMP:20260424T041316
CREATED:20250602T024026Z
LAST-MODIFIED:20250602T024026Z
UID:34422-1753635600-1753639200@easternmeadows.org
SUMMARY:PM Worship
DESCRIPTION:
URL:https://easternmeadows.org/event/pm-worship-245/
LOCATION:Eastern Meadows Church of Christ\, 8460 Vaughn Road\, Montgomery\, AL\, 36117\, United States
CATEGORIES:Public
END:VEVENT
END:VCALENDAR