BEGIN:VCALENDAR
VERSION:2.0
PRODID:-//Eastern Meadows Church of Christ - ECPv6.15.20//NONSGML v1.0//EN
CALSCALE:GREGORIAN
METHOD:PUBLISH
X-WR-CALNAME:Eastern Meadows Church of Christ
X-ORIGINAL-URL:https://easternmeadows.org
X-WR-CALDESC:Events for Eastern Meadows Church of Christ
REFRESH-INTERVAL;VALUE=DURATION:PT1H
X-Robots-Tag:noindex
X-PUBLISHED-TTL:PT1H
BEGIN:VTIMEZONE
TZID:America/Chicago
BEGIN:DAYLIGHT
TZOFFSETFROM:-0600
TZOFFSETTO:-0500
TZNAME:CDT
DTSTART:20250309T080000
END:DAYLIGHT
BEGIN:STANDARD
TZOFFSETFROM:-0500
TZOFFSETTO:-0600
TZNAME:CST
DTSTART:20251102T070000
END:STANDARD
BEGIN:DAYLIGHT
TZOFFSETFROM:-0600
TZOFFSETTO:-0500
TZNAME:CDT
DTSTART:20260308T080000
END:DAYLIGHT
BEGIN:STANDARD
TZOFFSETFROM:-0500
TZOFFSETTO:-0600
TZNAME:CST
DTSTART:20261101T070000
END:STANDARD
BEGIN:DAYLIGHT
TZOFFSETFROM:-0600
TZOFFSETTO:-0500
TZNAME:CDT
DTSTART:20270314T080000
END:DAYLIGHT
BEGIN:STANDARD
TZOFFSETFROM:-0500
TZOFFSETTO:-0600
TZNAME:CST
DTSTART:20271107T070000
END:STANDARD
END:VTIMEZONE
BEGIN:VEVENT
DTSTART;TZID=America/Chicago:20260426T090000
DTEND;TZID=America/Chicago:20260426T094500
DTSTAMP:20260423T070904
CREATED:20260309T201513Z
LAST-MODIFIED:20260309T201513Z
UID:35746-1777194000-1777196700@easternmeadows.org
SUMMARY:Bible Class
DESCRIPTION:
URL:https://easternmeadows.org/event/bible-class-298/
LOCATION:Eastern Meadows Church of Christ\, 8460 Vaughn Road\, Montgomery\, AL\, 36117\, United States
CATEGORIES:Public
END:VEVENT
BEGIN:VEVENT
DTSTART;TZID=America/Chicago:20260426T100000
DTEND;TZID=America/Chicago:20260426T110000
DTSTAMP:20260423T070904
CREATED:20260309T201521Z
LAST-MODIFIED:20260309T201521Z
UID:35747-1777197600-1777201200@easternmeadows.org
SUMMARY:AM Worship
DESCRIPTION:
URL:https://easternmeadows.org/event/am-worship-331/
LOCATION:Eastern Meadows Church of Christ\, 8460 Vaughn Road\, Montgomery\, AL\, 36117\, United States
CATEGORIES:Public
END:VEVENT
BEGIN:VEVENT
DTSTART;TZID=America/Chicago:20260426T170000
DTEND;TZID=America/Chicago:20260426T180000
DTSTAMP:20260423T070904
CREATED:20260309T201531Z
LAST-MODIFIED:20260309T201531Z
UID:35748-1777222800-1777226400@easternmeadows.org
SUMMARY:PM Worship
DESCRIPTION:
URL:https://easternmeadows.org/event/pm-worship-283/
LOCATION:Eastern Meadows Church of Christ\, 8460 Vaughn Road\, Montgomery\, AL\, 36117\, United States
CATEGORIES:Public
END:VEVENT
BEGIN:VEVENT
DTSTART;TZID=America/Chicago:20260429T183000
DTEND;TZID=America/Chicago:20260429T193000
DTSTAMP:20260423T070904
CREATED:20260309T201555Z
LAST-MODIFIED:20260309T201555Z
UID:35753-1777487400-1777491000@easternmeadows.org
SUMMARY:Mid-Week Bible Study
DESCRIPTION:
URL:https://easternmeadows.org/event/mid-week-bible-study-299/
LOCATION:Eastern Meadows Church of Christ\, 8460 Vaughn Road\, Montgomery\, AL\, 36117\, United States
CATEGORIES:Public
END:VEVENT
END:VCALENDAR