BEGIN:VCALENDAR
VERSION:2.0
PRODID:-//Eastern Meadows Church of Christ - ECPv6.15.20//NONSGML v1.0//EN
CALSCALE:GREGORIAN
METHOD:PUBLISH
X-WR-CALNAME:Eastern Meadows Church of Christ
X-ORIGINAL-URL:https://easternmeadows.org
X-WR-CALDESC:Events for Eastern Meadows Church of Christ
REFRESH-INTERVAL;VALUE=DURATION:PT1H
X-Robots-Tag:noindex
X-PUBLISHED-TTL:PT1H
BEGIN:VTIMEZONE
TZID:America/Chicago
BEGIN:DAYLIGHT
TZOFFSETFROM:-0600
TZOFFSETTO:-0500
TZNAME:CDT
DTSTART:20250309T080000
END:DAYLIGHT
BEGIN:STANDARD
TZOFFSETFROM:-0500
TZOFFSETTO:-0600
TZNAME:CST
DTSTART:20251102T070000
END:STANDARD
BEGIN:DAYLIGHT
TZOFFSETFROM:-0600
TZOFFSETTO:-0500
TZNAME:CDT
DTSTART:20260308T080000
END:DAYLIGHT
BEGIN:STANDARD
TZOFFSETFROM:-0500
TZOFFSETTO:-0600
TZNAME:CST
DTSTART:20261101T070000
END:STANDARD
BEGIN:DAYLIGHT
TZOFFSETFROM:-0600
TZOFFSETTO:-0500
TZNAME:CDT
DTSTART:20270314T080000
END:DAYLIGHT
BEGIN:STANDARD
TZOFFSETFROM:-0500
TZOFFSETTO:-0600
TZNAME:CST
DTSTART:20271107T070000
END:STANDARD
END:VTIMEZONE
BEGIN:VEVENT
DTSTART;TZID=America/Chicago:20260524T100000
DTEND;TZID=America/Chicago:20260524T110000
DTSTAMP:20260423T184749
CREATED:20260402T023126Z
LAST-MODIFIED:20260402T023126Z
UID:35830-1779616800-1779620400@easternmeadows.org
SUMMARY:AM Worship
DESCRIPTION:
URL:https://easternmeadows.org/event/am-worship-335/
LOCATION:Eastern Meadows Church of Christ\, 8460 Vaughn Road\, Montgomery\, AL\, 36117\, United States
CATEGORIES:Public
END:VEVENT
BEGIN:VEVENT
DTSTART;TZID=America/Chicago:20260524T170000
DTEND;TZID=America/Chicago:20260524T180000
DTSTAMP:20260423T184749
CREATED:20260402T023135Z
LAST-MODIFIED:20260402T023135Z
UID:35831-1779642000-1779645600@easternmeadows.org
SUMMARY:PM Worship
DESCRIPTION:
URL:https://easternmeadows.org/event/pm-worship-287/
LOCATION:Eastern Meadows Church of Christ\, 8460 Vaughn Road\, Montgomery\, AL\, 36117\, United States
CATEGORIES:Public
END:VEVENT
BEGIN:VEVENT
DTSTART;TZID=America/Chicago:20260527T183000
DTEND;TZID=America/Chicago:20260527T193000
DTSTAMP:20260423T184749
CREATED:20260402T023147Z
LAST-MODIFIED:20260402T023147Z
UID:35832-1779906600-1779910200@easternmeadows.org
SUMMARY:Mid-Week Bible Study
DESCRIPTION:
URL:https://easternmeadows.org/event/mid-week-bible-study-303/
LOCATION:Eastern Meadows Church of Christ\, 8460 Vaughn Road\, Montgomery\, AL\, 36117\, United States
CATEGORIES:Public
END:VEVENT
BEGIN:VEVENT
DTSTART;TZID=America/Chicago:20260531T090000
DTEND;TZID=America/Chicago:20260531T094500
DTSTAMP:20260423T184749
CREATED:20260402T023327Z
LAST-MODIFIED:20260402T023327Z
UID:35837-1780218000-1780220700@easternmeadows.org
SUMMARY:Bible Class
DESCRIPTION:
URL:https://easternmeadows.org/event/bible-class-303/
LOCATION:Eastern Meadows Church of Christ\, 8460 Vaughn Road\, Montgomery\, AL\, 36117\, United States
CATEGORIES:Public
END:VEVENT
BEGIN:VEVENT
DTSTART;TZID=America/Chicago:20260531T100000
DTEND;TZID=America/Chicago:20260531T110000
DTSTAMP:20260423T184749
CREATED:20260402T023334Z
LAST-MODIFIED:20260402T023334Z
UID:35838-1780221600-1780225200@easternmeadows.org
SUMMARY:AM Worship
DESCRIPTION:
URL:https://easternmeadows.org/event/am-worship-336/
LOCATION:Eastern Meadows Church of Christ\, 8460 Vaughn Road\, Montgomery\, AL\, 36117\, United States
CATEGORIES:Public
END:VEVENT
BEGIN:VEVENT
DTSTART;TZID=America/Chicago:20260531T170000
DTEND;TZID=America/Chicago:20260531T180000
DTSTAMP:20260423T184749
CREATED:20260402T023343Z
LAST-MODIFIED:20260402T023343Z
UID:35839-1780246800-1780250400@easternmeadows.org
SUMMARY:PM Worship
DESCRIPTION:
URL:https://easternmeadows.org/event/pm-worship-288/
LOCATION:Eastern Meadows Church of Christ\, 8460 Vaughn Road\, Montgomery\, AL\, 36117\, United States
CATEGORIES:Public
END:VEVENT
BEGIN:VEVENT
DTSTART;TZID=America/Chicago:20260603T183000
DTEND;TZID=America/Chicago:20260603T193000
DTSTAMP:20260423T184749
CREATED:20260402T023356Z
LAST-MODIFIED:20260402T023356Z
UID:35840-1780511400-1780515000@easternmeadows.org
SUMMARY:Mid-Week Bible Study
DESCRIPTION:
URL:https://easternmeadows.org/event/mid-week-bible-study-304/
LOCATION:Eastern Meadows Church of Christ\, 8460 Vaughn Road\, Montgomery\, AL\, 36117\, United States
CATEGORIES:Public
END:VEVENT
BEGIN:VEVENT
DTSTART;TZID=America/Chicago:20260608T093000
DTEND;TZID=America/Chicago:20260608T113000
DTSTAMP:20260423T184749
CREATED:20260409T163619Z
LAST-MODIFIED:20260409T163813Z
UID:35876-1780911000-1780918200@easternmeadows.org
SUMMARY:VBS
DESCRIPTION:
URL:https://easternmeadows.org/event/vbs-18/
LOCATION:Eastern Meadows Church of Christ\, 8460 Vaughn Road\, Montgomery\, AL\, 36117\, United States
CATEGORIES:Public
ATTACH;FMTTYPE=image/png:https://easternmeadows.org/wp-content/uploads/2026/04/Out-of-this-World.png
END:VEVENT
BEGIN:VEVENT
DTSTART;TZID=America/Chicago:20260609T093000
DTEND;TZID=America/Chicago:20260609T113000
DTSTAMP:20260423T184749
CREATED:20260409T163717Z
LAST-MODIFIED:20260409T163733Z
UID:35878-1780997400-1781004600@easternmeadows.org
SUMMARY:VBS
DESCRIPTION:
URL:https://easternmeadows.org/event/vbs-19/
LOCATION:Eastern Meadows Church of Christ\, 8460 Vaughn Road\, Montgomery\, AL\, 36117\, United States
CATEGORIES:Public
ATTACH;FMTTYPE=image/png:https://easternmeadows.org/wp-content/uploads/2026/04/Out-of-this-World.png
END:VEVENT
BEGIN:VEVENT
DTSTART;TZID=America/Chicago:20260610T093000
DTEND;TZID=America/Chicago:20260610T113000
DTSTAMP:20260423T184749
CREATED:20260409T163722Z
LAST-MODIFIED:20260409T163747Z
UID:35879-1781083800-1781091000@easternmeadows.org
SUMMARY:VBS
DESCRIPTION:
URL:https://easternmeadows.org/event/vbs-20/
LOCATION:Eastern Meadows Church of Christ\, 8460 Vaughn Road\, Montgomery\, AL\, 36117\, United States
CATEGORIES:Public
ATTACH;FMTTYPE=image/png:https://easternmeadows.org/wp-content/uploads/2026/04/Out-of-this-World.png
END:VEVENT
END:VCALENDAR