BEGIN:VCALENDAR
VERSION:2.0
PRODID:-//Eastern Meadows Church of Christ - ECPv6.15.20//NONSGML v1.0//EN
CALSCALE:GREGORIAN
METHOD:PUBLISH
X-ORIGINAL-URL:https://easternmeadows.org
X-WR-CALDESC:Events for Eastern Meadows Church of Christ
REFRESH-INTERVAL;VALUE=DURATION:PT1H
X-Robots-Tag:noindex
X-PUBLISHED-TTL:PT1H
BEGIN:VTIMEZONE
TZID:America/Chicago
BEGIN:DAYLIGHT
TZOFFSETFROM:-0600
TZOFFSETTO:-0500
TZNAME:CDT
DTSTART:20230312T080000
END:DAYLIGHT
BEGIN:STANDARD
TZOFFSETFROM:-0500
TZOFFSETTO:-0600
TZNAME:CST
DTSTART:20231105T070000
END:STANDARD
BEGIN:DAYLIGHT
TZOFFSETFROM:-0600
TZOFFSETTO:-0500
TZNAME:CDT
DTSTART:20240310T080000
END:DAYLIGHT
BEGIN:STANDARD
TZOFFSETFROM:-0500
TZOFFSETTO:-0600
TZNAME:CST
DTSTART:20241103T070000
END:STANDARD
BEGIN:DAYLIGHT
TZOFFSETFROM:-0600
TZOFFSETTO:-0500
TZNAME:CDT
DTSTART:20250309T080000
END:DAYLIGHT
BEGIN:STANDARD
TZOFFSETFROM:-0500
TZOFFSETTO:-0600
TZNAME:CST
DTSTART:20251102T070000
END:STANDARD
END:VTIMEZONE
BEGIN:VEVENT
DTSTART;TZID=America/Chicago:20240630T090000
DTEND;TZID=America/Chicago:20240630T094500
DTSTAMP:20260425T100157
CREATED:20240424T021536Z
LAST-MODIFIED:20240424T021536Z
UID:32947-1719738000-1719740700@easternmeadows.org
SUMMARY:Bible Class
DESCRIPTION:
URL:https://easternmeadows.org/event/bible-class-204/
LOCATION:Eastern Meadows Church of Christ\, 8460 Vaughn Road\, Montgomery\, AL\, 36117\, United States
CATEGORIES:Public
END:VEVENT
BEGIN:VEVENT
DTSTART;TZID=America/Chicago:20240630T100000
DTEND;TZID=America/Chicago:20240630T110000
DTSTAMP:20260425T100157
CREATED:20240424T021543Z
LAST-MODIFIED:20240424T021543Z
UID:32948-1719741600-1719745200@easternmeadows.org
SUMMARY:AM Worship
DESCRIPTION:
URL:https://easternmeadows.org/event/am-worship-237/
LOCATION:Eastern Meadows Church of Christ\, 8460 Vaughn Road\, Montgomery\, AL\, 36117\, United States
CATEGORIES:Public
END:VEVENT
BEGIN:VEVENT
DTSTART;TZID=America/Chicago:20240630T170000
DTEND;TZID=America/Chicago:20240630T180000
DTSTAMP:20260425T100157
CREATED:20240424T021551Z
LAST-MODIFIED:20240424T021551Z
UID:32949-1719766800-1719770400@easternmeadows.org
SUMMARY:PM Worship
DESCRIPTION:
URL:https://easternmeadows.org/event/pm-worship-189/
LOCATION:Eastern Meadows Church of Christ\, 8460 Vaughn Road\, Montgomery\, AL\, 36117\, United States
CATEGORIES:Public
END:VEVENT
BEGIN:VEVENT
DTSTART;TZID=America/Chicago:20240703T183000
DTEND;TZID=America/Chicago:20240703T193000
DTSTAMP:20260425T100157
CREATED:20240602T170331Z
LAST-MODIFIED:20240602T170331Z
UID:33026-1720031400-1720035000@easternmeadows.org
SUMMARY:Mid-Week Bible Study
DESCRIPTION:
URL:https://easternmeadows.org/event/mid-week-bible-study-204/
LOCATION:Eastern Meadows Church of Christ\, 8460 Vaughn Road\, Montgomery\, AL\, 36117\, United States
CATEGORIES:Public
END:VEVENT
BEGIN:VEVENT
DTSTART;TZID=America/Chicago:20240707T090000
DTEND;TZID=America/Chicago:20240707T094500
DTSTAMP:20260425T100157
CREATED:20240602T170340Z
LAST-MODIFIED:20240602T170340Z
UID:33027-1720342800-1720345500@easternmeadows.org
SUMMARY:Bible Class
DESCRIPTION:
URL:https://easternmeadows.org/event/bible-class-205/
LOCATION:Eastern Meadows Church of Christ\, 8460 Vaughn Road\, Montgomery\, AL\, 36117\, United States
CATEGORIES:Public
END:VEVENT
BEGIN:VEVENT
DTSTART;TZID=America/Chicago:20240707T100000
DTEND;TZID=America/Chicago:20240707T110000
DTSTAMP:20260425T100157
CREATED:20240602T170349Z
LAST-MODIFIED:20240602T170349Z
UID:33028-1720346400-1720350000@easternmeadows.org
SUMMARY:AM Worship
DESCRIPTION:
URL:https://easternmeadows.org/event/am-worship-238/
LOCATION:Eastern Meadows Church of Christ\, 8460 Vaughn Road\, Montgomery\, AL\, 36117\, United States
CATEGORIES:Public
END:VEVENT
BEGIN:VEVENT
DTSTART;TZID=America/Chicago:20240707T170000
DTEND;TZID=America/Chicago:20240707T180000
DTSTAMP:20260425T100157
CREATED:20240602T170400Z
LAST-MODIFIED:20240602T170400Z
UID:33029-1720371600-1720375200@easternmeadows.org
SUMMARY:PM Worship
DESCRIPTION:
URL:https://easternmeadows.org/event/pm-worship-190/
LOCATION:Eastern Meadows Church of Christ\, 8460 Vaughn Road\, Montgomery\, AL\, 36117\, United States
CATEGORIES:Public
END:VEVENT
BEGIN:VEVENT
DTSTART;TZID=America/Chicago:20240710T183000
DTEND;TZID=America/Chicago:20240710T193000
DTSTAMP:20260425T100157
CREATED:20240602T170450Z
LAST-MODIFIED:20240602T170450Z
UID:33034-1720636200-1720639800@easternmeadows.org
SUMMARY:Mid-Week Bible Study
DESCRIPTION:
URL:https://easternmeadows.org/event/mid-week-bible-study-205/
LOCATION:Eastern Meadows Church of Christ\, 8460 Vaughn Road\, Montgomery\, AL\, 36117\, United States
CATEGORIES:Public
END:VEVENT
BEGIN:VEVENT
DTSTART;TZID=America/Chicago:20240714T090000
DTEND;TZID=America/Chicago:20240714T094500
DTSTAMP:20260425T100157
CREATED:20240602T170455Z
LAST-MODIFIED:20240602T170455Z
UID:33035-1720947600-1720950300@easternmeadows.org
SUMMARY:Bible Class
DESCRIPTION:
URL:https://easternmeadows.org/event/bible-class-206/
LOCATION:Eastern Meadows Church of Christ\, 8460 Vaughn Road\, Montgomery\, AL\, 36117\, United States
CATEGORIES:Public
END:VEVENT
BEGIN:VEVENT
DTSTART;TZID=America/Chicago:20240714T100000
DTEND;TZID=America/Chicago:20240714T110000
DTSTAMP:20260425T100157
CREATED:20240602T170502Z
LAST-MODIFIED:20240602T170502Z
UID:33036-1720951200-1720954800@easternmeadows.org
SUMMARY:AM Worship
DESCRIPTION:
URL:https://easternmeadows.org/event/am-worship-239/
LOCATION:Eastern Meadows Church of Christ\, 8460 Vaughn Road\, Montgomery\, AL\, 36117\, United States
CATEGORIES:Public
END:VEVENT
BEGIN:VEVENT
DTSTART;TZID=America/Chicago:20240714T123000
DTEND;TZID=America/Chicago:20240714T133000
DTSTAMP:20260425T100157
CREATED:20240602T170512Z
LAST-MODIFIED:20240709T165044Z
UID:33037-1720960200-1720963800@easternmeadows.org
SUMMARY:PM Worship
DESCRIPTION:
URL:https://easternmeadows.org/event/pm-worship-191/
LOCATION:Eastern Meadows Church of Christ\, 8460 Vaughn Road\, Montgomery\, AL\, 36117\, United States
CATEGORIES:Public
END:VEVENT
BEGIN:VEVENT
DTSTART;TZID=America/Chicago:20240717T183000
DTEND;TZID=America/Chicago:20240717T193000
DTSTAMP:20260425T100157
CREATED:20240602T170558Z
LAST-MODIFIED:20240602T170558Z
UID:33042-1721241000-1721244600@easternmeadows.org
SUMMARY:Mid-Week Bible Study
DESCRIPTION:
URL:https://easternmeadows.org/event/mid-week-bible-study-206/
LOCATION:Eastern Meadows Church of Christ\, 8460 Vaughn Road\, Montgomery\, AL\, 36117\, United States
CATEGORIES:Public
END:VEVENT
BEGIN:VEVENT
DTSTART;TZID=America/Chicago:20240721T090000
DTEND;TZID=America/Chicago:20240721T094500
DTSTAMP:20260425T100157
CREATED:20240602T170607Z
LAST-MODIFIED:20240602T170607Z
UID:33043-1721552400-1721555100@easternmeadows.org
SUMMARY:Bible Class
DESCRIPTION:
URL:https://easternmeadows.org/event/bible-class-207/
LOCATION:Eastern Meadows Church of Christ\, 8460 Vaughn Road\, Montgomery\, AL\, 36117\, United States
CATEGORIES:Public
END:VEVENT
BEGIN:VEVENT
DTSTART;TZID=America/Chicago:20240721T100000
DTEND;TZID=America/Chicago:20240721T110000
DTSTAMP:20260425T100157
CREATED:20240602T170616Z
LAST-MODIFIED:20240602T170616Z
UID:33044-1721556000-1721559600@easternmeadows.org
SUMMARY:AM Worship
DESCRIPTION:
URL:https://easternmeadows.org/event/am-worship-240/
LOCATION:Eastern Meadows Church of Christ\, 8460 Vaughn Road\, Montgomery\, AL\, 36117\, United States
CATEGORIES:Public
END:VEVENT
BEGIN:VEVENT
DTSTART;TZID=America/Chicago:20240721T150000
DTEND;TZID=America/Chicago:20240721T160000
DTSTAMP:20260425T100157
CREATED:20240602T170625Z
LAST-MODIFIED:20240718T201818Z
UID:33045-1721574000-1721577600@easternmeadows.org
SUMMARY:PM Worship
DESCRIPTION:
URL:https://easternmeadows.org/event/pm-worship-192/
LOCATION:Eastern Meadows Church of Christ\, 8460 Vaughn Road\, Montgomery\, AL\, 36117\, United States
CATEGORIES:Public
END:VEVENT
BEGIN:VEVENT
DTSTART;TZID=America/Chicago:20240724T183000
DTEND;TZID=America/Chicago:20240724T193000
DTSTAMP:20260425T100157
CREATED:20240602T170659Z
LAST-MODIFIED:20240602T170659Z
UID:33050-1721845800-1721849400@easternmeadows.org
SUMMARY:Mid-Week Bible Study
DESCRIPTION:
URL:https://easternmeadows.org/event/mid-week-bible-study-207/
LOCATION:Eastern Meadows Church of Christ\, 8460 Vaughn Road\, Montgomery\, AL\, 36117\, United States
CATEGORIES:Public
END:VEVENT
BEGIN:VEVENT
DTSTART;TZID=America/Chicago:20240728T090000
DTEND;TZID=America/Chicago:20240728T094500
DTSTAMP:20260425T100157
CREATED:20240602T170709Z
LAST-MODIFIED:20240602T170709Z
UID:33051-1722157200-1722159900@easternmeadows.org
SUMMARY:Bible Class
DESCRIPTION:
URL:https://easternmeadows.org/event/bible-class-208/
LOCATION:Eastern Meadows Church of Christ\, 8460 Vaughn Road\, Montgomery\, AL\, 36117\, United States
CATEGORIES:Public
END:VEVENT
BEGIN:VEVENT
DTSTART;TZID=America/Chicago:20240728T100000
DTEND;TZID=America/Chicago:20240728T110000
DTSTAMP:20260425T100157
CREATED:20240602T170718Z
LAST-MODIFIED:20240602T170718Z
UID:33052-1722160800-1722164400@easternmeadows.org
SUMMARY:AM Worship
DESCRIPTION:
URL:https://easternmeadows.org/event/am-worship-241/
LOCATION:Eastern Meadows Church of Christ\, 8460 Vaughn Road\, Montgomery\, AL\, 36117\, United States
CATEGORIES:Public
END:VEVENT
BEGIN:VEVENT
DTSTART;TZID=America/Chicago:20240728T170000
DTEND;TZID=America/Chicago:20240728T180000
DTSTAMP:20260425T100157
CREATED:20240602T170728Z
LAST-MODIFIED:20240602T170728Z
UID:33053-1722186000-1722189600@easternmeadows.org
SUMMARY:PM Worship
DESCRIPTION:
URL:https://easternmeadows.org/event/pm-worship-193/
LOCATION:Eastern Meadows Church of Christ\, 8460 Vaughn Road\, Montgomery\, AL\, 36117\, United States
CATEGORIES:Public
END:VEVENT
BEGIN:VEVENT
DTSTART;TZID=America/Chicago:20240731T183000
DTEND;TZID=America/Chicago:20240731T193000
DTSTAMP:20260425T100157
CREATED:20240602T170755Z
LAST-MODIFIED:20240602T170755Z
UID:33058-1722450600-1722454200@easternmeadows.org
SUMMARY:Mid-Week Bible Study
DESCRIPTION:
URL:https://easternmeadows.org/event/mid-week-bible-study-208/
LOCATION:Eastern Meadows Church of Christ\, 8460 Vaughn Road\, Montgomery\, AL\, 36117\, United States
CATEGORIES:Public
END:VEVENT
BEGIN:VEVENT
DTSTART;TZID=America/Chicago:20240804T090000
DTEND;TZID=America/Chicago:20240804T094500
DTSTAMP:20260425T100157
CREATED:20240709T163959Z
LAST-MODIFIED:20240709T163959Z
UID:33104-1722762000-1722764700@easternmeadows.org
SUMMARY:Bible Class
DESCRIPTION:
URL:https://easternmeadows.org/event/bible-class-209/
LOCATION:Eastern Meadows Church of Christ\, 8460 Vaughn Road\, Montgomery\, AL\, 36117\, United States
CATEGORIES:Public
END:VEVENT
BEGIN:VEVENT
DTSTART;TZID=America/Chicago:20240804T100000
DTEND;TZID=America/Chicago:20240804T110000
DTSTAMP:20260425T100157
CREATED:20240709T164008Z
LAST-MODIFIED:20240709T164008Z
UID:33105-1722765600-1722769200@easternmeadows.org
SUMMARY:AM Worship
DESCRIPTION:
URL:https://easternmeadows.org/event/am-worship-242/
LOCATION:Eastern Meadows Church of Christ\, 8460 Vaughn Road\, Montgomery\, AL\, 36117\, United States
CATEGORIES:Public
END:VEVENT
BEGIN:VEVENT
DTSTART;TZID=America/Chicago:20240804T170000
DTEND;TZID=America/Chicago:20240804T180000
DTSTAMP:20260425T100157
CREATED:20240709T164019Z
LAST-MODIFIED:20240709T164019Z
UID:33106-1722790800-1722794400@easternmeadows.org
SUMMARY:PM Worship
DESCRIPTION:
URL:https://easternmeadows.org/event/pm-worship-194/
LOCATION:Eastern Meadows Church of Christ\, 8460 Vaughn Road\, Montgomery\, AL\, 36117\, United States
CATEGORIES:Public
END:VEVENT
BEGIN:VEVENT
DTSTART;TZID=America/Chicago:20240807T183000
DTEND;TZID=America/Chicago:20240807T193000
DTSTAMP:20260425T100157
CREATED:20240709T164029Z
LAST-MODIFIED:20240709T164029Z
UID:33107-1723055400-1723059000@easternmeadows.org
SUMMARY:Mid-Week Bible Study
DESCRIPTION:
URL:https://easternmeadows.org/event/mid-week-bible-study-209/
LOCATION:Eastern Meadows Church of Christ\, 8460 Vaughn Road\, Montgomery\, AL\, 36117\, United States
CATEGORIES:Public
END:VEVENT
BEGIN:VEVENT
DTSTART;TZID=America/Chicago:20240811T090000
DTEND;TZID=America/Chicago:20240811T094500
DTSTAMP:20260425T100157
CREATED:20240709T164109Z
LAST-MODIFIED:20240709T164109Z
UID:33112-1723366800-1723369500@easternmeadows.org
SUMMARY:Bible Class
DESCRIPTION:
URL:https://easternmeadows.org/event/bible-class-210/
LOCATION:Eastern Meadows Church of Christ\, 8460 Vaughn Road\, Montgomery\, AL\, 36117\, United States
CATEGORIES:Public
END:VEVENT
BEGIN:VEVENT
DTSTART;TZID=America/Chicago:20240811T100000
DTEND;TZID=America/Chicago:20240811T110000
DTSTAMP:20260425T100157
CREATED:20240709T164120Z
LAST-MODIFIED:20240709T164120Z
UID:33113-1723370400-1723374000@easternmeadows.org
SUMMARY:AM Worship
DESCRIPTION:
URL:https://easternmeadows.org/event/am-worship-243/
LOCATION:Eastern Meadows Church of Christ\, 8460 Vaughn Road\, Montgomery\, AL\, 36117\, United States
CATEGORIES:Public
END:VEVENT
BEGIN:VEVENT
DTSTART;TZID=America/Chicago:20240811T170000
DTEND;TZID=America/Chicago:20240811T180000
DTSTAMP:20260425T100157
CREATED:20240709T164130Z
LAST-MODIFIED:20240709T164130Z
UID:33114-1723395600-1723399200@easternmeadows.org
SUMMARY:PM Worship
DESCRIPTION:
URL:https://easternmeadows.org/event/pm-worship-195/
LOCATION:Eastern Meadows Church of Christ\, 8460 Vaughn Road\, Montgomery\, AL\, 36117\, United States
CATEGORIES:Public
END:VEVENT
BEGIN:VEVENT
DTSTART;TZID=America/Chicago:20240814T183000
DTEND;TZID=America/Chicago:20240814T193000
DTSTAMP:20260425T100157
CREATED:20240709T164139Z
LAST-MODIFIED:20240709T164139Z
UID:33115-1723660200-1723663800@easternmeadows.org
SUMMARY:Mid-Week Bible Study
DESCRIPTION:
URL:https://easternmeadows.org/event/mid-week-bible-study-210/
LOCATION:Eastern Meadows Church of Christ\, 8460 Vaughn Road\, Montgomery\, AL\, 36117\, United States
CATEGORIES:Public
END:VEVENT
BEGIN:VEVENT
DTSTART;TZID=America/Chicago:20240818T090000
DTEND;TZID=America/Chicago:20240818T094500
DTSTAMP:20260425T100157
CREATED:20240709T164555Z
LAST-MODIFIED:20240709T164555Z
UID:33120-1723971600-1723974300@easternmeadows.org
SUMMARY:Bible Class
DESCRIPTION:
URL:https://easternmeadows.org/event/bible-class-211/
LOCATION:Eastern Meadows Church of Christ\, 8460 Vaughn Road\, Montgomery\, AL\, 36117\, United States
CATEGORIES:Public
END:VEVENT
BEGIN:VEVENT
DTSTART;TZID=America/Chicago:20240818T100000
DTEND;TZID=America/Chicago:20240818T110000
DTSTAMP:20260425T100157
CREATED:20240709T164607Z
LAST-MODIFIED:20240709T164607Z
UID:33121-1723975200-1723978800@easternmeadows.org
SUMMARY:AM Worship
DESCRIPTION:
URL:https://easternmeadows.org/event/am-worship-244/
LOCATION:Eastern Meadows Church of Christ\, 8460 Vaughn Road\, Montgomery\, AL\, 36117\, United States
CATEGORIES:Public
END:VEVENT
END:VCALENDAR