BEGIN:VCALENDAR
VERSION:2.0
PRODID:-//Eastern Meadows Church of Christ - ECPv6.15.20//NONSGML v1.0//EN
CALSCALE:GREGORIAN
METHOD:PUBLISH
X-WR-CALNAME:Eastern Meadows Church of Christ
X-ORIGINAL-URL:https://easternmeadows.org
X-WR-CALDESC:Events for Eastern Meadows Church of Christ
REFRESH-INTERVAL;VALUE=DURATION:PT1H
X-Robots-Tag:noindex
X-PUBLISHED-TTL:PT1H
BEGIN:VTIMEZONE
TZID:America/Chicago
BEGIN:DAYLIGHT
TZOFFSETFROM:-0600
TZOFFSETTO:-0500
TZNAME:CDT
DTSTART:20230312T080000
END:DAYLIGHT
BEGIN:STANDARD
TZOFFSETFROM:-0500
TZOFFSETTO:-0600
TZNAME:CST
DTSTART:20231105T070000
END:STANDARD
BEGIN:DAYLIGHT
TZOFFSETFROM:-0600
TZOFFSETTO:-0500
TZNAME:CDT
DTSTART:20240310T080000
END:DAYLIGHT
BEGIN:STANDARD
TZOFFSETFROM:-0500
TZOFFSETTO:-0600
TZNAME:CST
DTSTART:20241103T070000
END:STANDARD
BEGIN:DAYLIGHT
TZOFFSETFROM:-0600
TZOFFSETTO:-0500
TZNAME:CDT
DTSTART:20250309T080000
END:DAYLIGHT
BEGIN:STANDARD
TZOFFSETFROM:-0500
TZOFFSETTO:-0600
TZNAME:CST
DTSTART:20251102T070000
END:STANDARD
BEGIN:DAYLIGHT
TZOFFSETFROM:-0600
TZOFFSETTO:-0500
TZNAME:CDT
DTSTART:20260308T080000
END:DAYLIGHT
BEGIN:STANDARD
TZOFFSETFROM:-0500
TZOFFSETTO:-0600
TZNAME:CST
DTSTART:20261101T070000
END:STANDARD
END:VTIMEZONE
BEGIN:VEVENT
DTSTART;TZID=America/Chicago:20241208T170000
DTEND;TZID=America/Chicago:20241208T180000
DTSTAMP:20260425T055823
CREATED:20241119T225420Z
LAST-MODIFIED:20241119T225420Z
UID:33602-1733677200-1733680800@easternmeadows.org
SUMMARY:PM Worship
DESCRIPTION:
URL:https://easternmeadows.org/event/pm-worship-212/
LOCATION:Eastern Meadows Church of Christ\, 8460 Vaughn Road\, Montgomery\, AL\, 36117\, United States
CATEGORIES:Public
END:VEVENT
BEGIN:VEVENT
DTSTART;TZID=America/Chicago:20241211T183000
DTEND;TZID=America/Chicago:20241211T193000
DTSTAMP:20260425T055823
CREATED:20241119T225446Z
LAST-MODIFIED:20241119T225446Z
UID:33607-1733941800-1733945400@easternmeadows.org
SUMMARY:Mid-Week Bible Study
DESCRIPTION:
URL:https://easternmeadows.org/event/mid-week-bible-study-227/
LOCATION:Eastern Meadows Church of Christ\, 8460 Vaughn Road\, Montgomery\, AL\, 36117\, United States
CATEGORIES:Public
END:VEVENT
BEGIN:VEVENT
DTSTART;TZID=America/Chicago:20241215T090000
DTEND;TZID=America/Chicago:20241215T094500
DTSTAMP:20260425T055823
CREATED:20241119T225455Z
LAST-MODIFIED:20241119T225455Z
UID:33608-1734253200-1734255900@easternmeadows.org
SUMMARY:Bible Class
DESCRIPTION:
URL:https://easternmeadows.org/event/bible-class-228/
LOCATION:Eastern Meadows Church of Christ\, 8460 Vaughn Road\, Montgomery\, AL\, 36117\, United States
CATEGORIES:Public
END:VEVENT
BEGIN:VEVENT
DTSTART;TZID=America/Chicago:20241215T100000
DTEND;TZID=America/Chicago:20241215T110000
DTSTAMP:20260425T055823
CREATED:20241119T225505Z
LAST-MODIFIED:20241119T225505Z
UID:33609-1734256800-1734260400@easternmeadows.org
SUMMARY:AM Worship
DESCRIPTION:
URL:https://easternmeadows.org/event/am-worship-261/
LOCATION:Eastern Meadows Church of Christ\, 8460 Vaughn Road\, Montgomery\, AL\, 36117\, United States
CATEGORIES:Public
END:VEVENT
BEGIN:VEVENT
DTSTART;TZID=America/Chicago:20241215T170000
DTEND;TZID=America/Chicago:20241215T180000
DTSTAMP:20260425T055823
CREATED:20241119T225518Z
LAST-MODIFIED:20241119T225518Z
UID:33610-1734282000-1734285600@easternmeadows.org
SUMMARY:PM Worship
DESCRIPTION:
URL:https://easternmeadows.org/event/pm-worship-213/
LOCATION:Eastern Meadows Church of Christ\, 8460 Vaughn Road\, Montgomery\, AL\, 36117\, United States
CATEGORIES:Public
END:VEVENT
BEGIN:VEVENT
DTSTART;TZID=America/Chicago:20241218T183000
DTEND;TZID=America/Chicago:20241218T193000
DTSTAMP:20260425T055823
CREATED:20241119T225548Z
LAST-MODIFIED:20241119T225548Z
UID:33615-1734546600-1734550200@easternmeadows.org
SUMMARY:Mid-Week Bible Study
DESCRIPTION:
URL:https://easternmeadows.org/event/mid-week-bible-study-228/
LOCATION:Eastern Meadows Church of Christ\, 8460 Vaughn Road\, Montgomery\, AL\, 36117\, United States
CATEGORIES:Public
END:VEVENT
BEGIN:VEVENT
DTSTART;TZID=America/Chicago:20241222T090000
DTEND;TZID=America/Chicago:20241222T094500
DTSTAMP:20260425T055823
CREATED:20241119T225559Z
LAST-MODIFIED:20241119T225559Z
UID:33616-1734858000-1734860700@easternmeadows.org
SUMMARY:Bible Class
DESCRIPTION:
URL:https://easternmeadows.org/event/bible-class-229/
LOCATION:Eastern Meadows Church of Christ\, 8460 Vaughn Road\, Montgomery\, AL\, 36117\, United States
CATEGORIES:Public
END:VEVENT
BEGIN:VEVENT
DTSTART;TZID=America/Chicago:20241222T100000
DTEND;TZID=America/Chicago:20241222T110000
DTSTAMP:20260425T055823
CREATED:20241119T225609Z
LAST-MODIFIED:20241119T225609Z
UID:33617-1734861600-1734865200@easternmeadows.org
SUMMARY:AM Worship
DESCRIPTION:
URL:https://easternmeadows.org/event/am-worship-262/
LOCATION:Eastern Meadows Church of Christ\, 8460 Vaughn Road\, Montgomery\, AL\, 36117\, United States
CATEGORIES:Public
END:VEVENT
BEGIN:VEVENT
DTSTART;TZID=America/Chicago:20241222T170000
DTEND;TZID=America/Chicago:20241222T180000
DTSTAMP:20260425T055823
CREATED:20241119T225620Z
LAST-MODIFIED:20241119T225620Z
UID:33618-1734886800-1734890400@easternmeadows.org
SUMMARY:PM Worship
DESCRIPTION:
URL:https://easternmeadows.org/event/pm-worship-214/
LOCATION:Eastern Meadows Church of Christ\, 8460 Vaughn Road\, Montgomery\, AL\, 36117\, United States
CATEGORIES:Public
END:VEVENT
BEGIN:VEVENT
DTSTART;TZID=America/Chicago:20241225T183000
DTEND;TZID=America/Chicago:20241225T193000
DTSTAMP:20260425T055823
CREATED:20241119T225644Z
LAST-MODIFIED:20241119T225644Z
UID:33623-1735151400-1735155000@easternmeadows.org
SUMMARY:Mid-Week Bible Study
DESCRIPTION:
URL:https://easternmeadows.org/event/mid-week-bible-study-229/
LOCATION:Eastern Meadows Church of Christ\, 8460 Vaughn Road\, Montgomery\, AL\, 36117\, United States
CATEGORIES:Public
END:VEVENT
BEGIN:VEVENT
DTSTART;TZID=America/Chicago:20241229T090000
DTEND;TZID=America/Chicago:20241229T094500
DTSTAMP:20260425T055823
CREATED:20241119T225654Z
LAST-MODIFIED:20241119T225654Z
UID:33624-1735462800-1735465500@easternmeadows.org
SUMMARY:Bible Class
DESCRIPTION:
URL:https://easternmeadows.org/event/bible-class-230/
LOCATION:Eastern Meadows Church of Christ\, 8460 Vaughn Road\, Montgomery\, AL\, 36117\, United States
CATEGORIES:Public
END:VEVENT
BEGIN:VEVENT
DTSTART;TZID=America/Chicago:20241229T100000
DTEND;TZID=America/Chicago:20241229T110000
DTSTAMP:20260425T055823
CREATED:20241119T225704Z
LAST-MODIFIED:20241119T225704Z
UID:33625-1735466400-1735470000@easternmeadows.org
SUMMARY:AM Worship
DESCRIPTION:
URL:https://easternmeadows.org/event/am-worship-263/
LOCATION:Eastern Meadows Church of Christ\, 8460 Vaughn Road\, Montgomery\, AL\, 36117\, United States
CATEGORIES:Public
END:VEVENT
BEGIN:VEVENT
DTSTART;TZID=America/Chicago:20241229T170000
DTEND;TZID=America/Chicago:20241229T180000
DTSTAMP:20260425T055823
CREATED:20241119T225713Z
LAST-MODIFIED:20241119T225713Z
UID:33626-1735491600-1735495200@easternmeadows.org
SUMMARY:PM Worship
DESCRIPTION:
URL:https://easternmeadows.org/event/pm-worship-215/
LOCATION:Eastern Meadows Church of Christ\, 8460 Vaughn Road\, Montgomery\, AL\, 36117\, United States
CATEGORIES:Public
END:VEVENT
BEGIN:VEVENT
DTSTART;TZID=America/Chicago:20250101T183000
DTEND;TZID=America/Chicago:20250101T193000
DTSTAMP:20260425T055823
CREATED:20241212T192956Z
LAST-MODIFIED:20241212T192956Z
UID:33676-1735756200-1735759800@easternmeadows.org
SUMMARY:Mid-Week Bible Study
DESCRIPTION:
URL:https://easternmeadows.org/event/mid-week-bible-study-230/
LOCATION:Eastern Meadows Church of Christ\, 8460 Vaughn Road\, Montgomery\, AL\, 36117\, United States
CATEGORIES:Public
END:VEVENT
BEGIN:VEVENT
DTSTART;TZID=America/Chicago:20250105T090000
DTEND;TZID=America/Chicago:20250105T094500
DTSTAMP:20260425T055823
CREATED:20241212T193008Z
LAST-MODIFIED:20241212T193008Z
UID:33677-1736067600-1736070300@easternmeadows.org
SUMMARY:Bible Class
DESCRIPTION:
URL:https://easternmeadows.org/event/bible-class-231/
LOCATION:Eastern Meadows Church of Christ\, 8460 Vaughn Road\, Montgomery\, AL\, 36117\, United States
CATEGORIES:Public
END:VEVENT
BEGIN:VEVENT
DTSTART;TZID=America/Chicago:20250105T100000
DTEND;TZID=America/Chicago:20250105T110000
DTSTAMP:20260425T055823
CREATED:20241212T193135Z
LAST-MODIFIED:20241212T193135Z
UID:33678-1736071200-1736074800@easternmeadows.org
SUMMARY:AM Worship
DESCRIPTION:
URL:https://easternmeadows.org/event/am-worship-264/
LOCATION:Eastern Meadows Church of Christ\, 8460 Vaughn Road\, Montgomery\, AL\, 36117\, United States
CATEGORIES:Public
END:VEVENT
BEGIN:VEVENT
DTSTART;TZID=America/Chicago:20250105T170000
DTEND;TZID=America/Chicago:20250105T180000
DTSTAMP:20260425T055824
CREATED:20241212T193147Z
LAST-MODIFIED:20241212T193147Z
UID:33679-1736096400-1736100000@easternmeadows.org
SUMMARY:PM Worship
DESCRIPTION:
URL:https://easternmeadows.org/event/pm-worship-216/
LOCATION:Eastern Meadows Church of Christ\, 8460 Vaughn Road\, Montgomery\, AL\, 36117\, United States
CATEGORIES:Public
END:VEVENT
BEGIN:VEVENT
DTSTART;TZID=America/Chicago:20250108T183000
DTEND;TZID=America/Chicago:20250108T193000
DTSTAMP:20260425T055824
CREATED:20241212T193216Z
LAST-MODIFIED:20241212T193216Z
UID:33685-1736361000-1736364600@easternmeadows.org
SUMMARY:Mid-Week Bible Study
DESCRIPTION:
URL:https://easternmeadows.org/event/mid-week-bible-study-231/
LOCATION:Eastern Meadows Church of Christ\, 8460 Vaughn Road\, Montgomery\, AL\, 36117\, United States
CATEGORIES:Public
END:VEVENT
BEGIN:VEVENT
DTSTART;TZID=America/Chicago:20250112T090000
DTEND;TZID=America/Chicago:20250112T094500
DTSTAMP:20260425T055824
CREATED:20241212T193241Z
LAST-MODIFIED:20241212T193241Z
UID:33686-1736672400-1736675100@easternmeadows.org
SUMMARY:Bible Class
DESCRIPTION:
URL:https://easternmeadows.org/event/bible-class-232/
LOCATION:Eastern Meadows Church of Christ\, 8460 Vaughn Road\, Montgomery\, AL\, 36117\, United States
CATEGORIES:Public
END:VEVENT
BEGIN:VEVENT
DTSTART;TZID=America/Chicago:20250112T100000
DTEND;TZID=America/Chicago:20250112T110000
DTSTAMP:20260425T055824
CREATED:20241212T193253Z
LAST-MODIFIED:20241212T193253Z
UID:33687-1736676000-1736679600@easternmeadows.org
SUMMARY:AM Worship
DESCRIPTION:
URL:https://easternmeadows.org/event/am-worship-265/
LOCATION:Eastern Meadows Church of Christ\, 8460 Vaughn Road\, Montgomery\, AL\, 36117\, United States
CATEGORIES:Public
END:VEVENT
BEGIN:VEVENT
DTSTART;TZID=America/Chicago:20250112T170000
DTEND;TZID=America/Chicago:20250112T180000
DTSTAMP:20260425T055824
CREATED:20241212T193304Z
LAST-MODIFIED:20241212T193304Z
UID:33688-1736701200-1736704800@easternmeadows.org
SUMMARY:PM Worship
DESCRIPTION:
URL:https://easternmeadows.org/event/pm-worship-217/
LOCATION:Eastern Meadows Church of Christ\, 8460 Vaughn Road\, Montgomery\, AL\, 36117\, United States
CATEGORIES:Public
END:VEVENT
BEGIN:VEVENT
DTSTART;TZID=America/Chicago:20250115T183000
DTEND;TZID=America/Chicago:20250115T193000
DTSTAMP:20260425T055824
CREATED:20250106T024610Z
LAST-MODIFIED:20250106T024610Z
UID:33729-1736965800-1736969400@easternmeadows.org
SUMMARY:Mid-Week Bible Study
DESCRIPTION:
URL:https://easternmeadows.org/event/mid-week-bible-study-232/
LOCATION:Eastern Meadows Church of Christ\, 8460 Vaughn Road\, Montgomery\, AL\, 36117\, United States
CATEGORIES:Public
END:VEVENT
BEGIN:VEVENT
DTSTART;TZID=America/Chicago:20250119T090000
DTEND;TZID=America/Chicago:20250119T094500
DTSTAMP:20260425T055824
CREATED:20250106T024630Z
LAST-MODIFIED:20250106T024630Z
UID:33730-1737277200-1737279900@easternmeadows.org
SUMMARY:Bible Class
DESCRIPTION:
URL:https://easternmeadows.org/event/bible-class-233/
LOCATION:Eastern Meadows Church of Christ\, 8460 Vaughn Road\, Montgomery\, AL\, 36117\, United States
CATEGORIES:Public
END:VEVENT
BEGIN:VEVENT
DTSTART;TZID=America/Chicago:20250119T100000
DTEND;TZID=America/Chicago:20250119T110000
DTSTAMP:20260425T055824
CREATED:20250106T024637Z
LAST-MODIFIED:20250106T024637Z
UID:33731-1737280800-1737284400@easternmeadows.org
SUMMARY:AM Worship
DESCRIPTION:
URL:https://easternmeadows.org/event/am-worship-266/
LOCATION:Eastern Meadows Church of Christ\, 8460 Vaughn Road\, Montgomery\, AL\, 36117\, United States
CATEGORIES:Public
END:VEVENT
BEGIN:VEVENT
DTSTART;TZID=America/Chicago:20250119T170000
DTEND;TZID=America/Chicago:20250119T180000
DTSTAMP:20260425T055824
CREATED:20250106T024647Z
LAST-MODIFIED:20250106T024647Z
UID:33732-1737306000-1737309600@easternmeadows.org
SUMMARY:PM Worship
DESCRIPTION:
URL:https://easternmeadows.org/event/pm-worship-218/
LOCATION:Eastern Meadows Church of Christ\, 8460 Vaughn Road\, Montgomery\, AL\, 36117\, United States
CATEGORIES:Public
END:VEVENT
BEGIN:VEVENT
DTSTART;TZID=America/Chicago:20250122T183000
DTEND;TZID=America/Chicago:20250122T193000
DTSTAMP:20260425T055824
CREATED:20250106T024738Z
LAST-MODIFIED:20250106T024738Z
UID:33737-1737570600-1737574200@easternmeadows.org
SUMMARY:Mid-Week Bible Study
DESCRIPTION:
URL:https://easternmeadows.org/event/mid-week-bible-study-233/
LOCATION:Eastern Meadows Church of Christ\, 8460 Vaughn Road\, Montgomery\, AL\, 36117\, United States
CATEGORIES:Public
END:VEVENT
BEGIN:VEVENT
DTSTART;TZID=America/Chicago:20250126T090000
DTEND;TZID=America/Chicago:20250126T094500
DTSTAMP:20260425T055824
CREATED:20250106T024747Z
LAST-MODIFIED:20250106T024747Z
UID:33738-1737882000-1737884700@easternmeadows.org
SUMMARY:Bible Class
DESCRIPTION:
URL:https://easternmeadows.org/event/bible-class-234/
LOCATION:Eastern Meadows Church of Christ\, 8460 Vaughn Road\, Montgomery\, AL\, 36117\, United States
CATEGORIES:Public
END:VEVENT
BEGIN:VEVENT
DTSTART;TZID=America/Chicago:20250126T100000
DTEND;TZID=America/Chicago:20250126T110000
DTSTAMP:20260425T055824
CREATED:20250106T024756Z
LAST-MODIFIED:20250106T024756Z
UID:33739-1737885600-1737889200@easternmeadows.org
SUMMARY:AM Worship
DESCRIPTION:
URL:https://easternmeadows.org/event/am-worship-267/
LOCATION:Eastern Meadows Church of Christ\, 8460 Vaughn Road\, Montgomery\, AL\, 36117\, United States
CATEGORIES:Public
END:VEVENT
BEGIN:VEVENT
DTSTART;TZID=America/Chicago:20250126T170000
DTEND;TZID=America/Chicago:20250126T180000
DTSTAMP:20260425T055824
CREATED:20250106T024806Z
LAST-MODIFIED:20250106T024806Z
UID:33740-1737910800-1737914400@easternmeadows.org
SUMMARY:PM Worship
DESCRIPTION:
URL:https://easternmeadows.org/event/pm-worship-219/
LOCATION:Eastern Meadows Church of Christ\, 8460 Vaughn Road\, Montgomery\, AL\, 36117\, United States
CATEGORIES:Public
END:VEVENT
BEGIN:VEVENT
DTSTART;TZID=America/Chicago:20250129T183000
DTEND;TZID=America/Chicago:20250129T193000
DTSTAMP:20260425T055824
CREATED:20250106T024842Z
LAST-MODIFIED:20250106T024842Z
UID:33746-1738175400-1738179000@easternmeadows.org
SUMMARY:Mid-Week Bible Study
DESCRIPTION:
URL:https://easternmeadows.org/event/mid-week-bible-study-234/
LOCATION:Eastern Meadows Church of Christ\, 8460 Vaughn Road\, Montgomery\, AL\, 36117\, United States
CATEGORIES:Public
END:VEVENT
END:VCALENDAR