BEGIN:VCALENDAR
VERSION:2.0
PRODID:-//Eastern Meadows Church of Christ - ECPv6.15.20//NONSGML v1.0//EN
CALSCALE:GREGORIAN
METHOD:PUBLISH
X-WR-CALNAME:Eastern Meadows Church of Christ
X-ORIGINAL-URL:https://easternmeadows.org
X-WR-CALDESC:Events for Eastern Meadows Church of Christ
REFRESH-INTERVAL;VALUE=DURATION:PT1H
X-Robots-Tag:noindex
X-PUBLISHED-TTL:PT1H
BEGIN:VTIMEZONE
TZID:America/Chicago
BEGIN:DAYLIGHT
TZOFFSETFROM:-0600
TZOFFSETTO:-0500
TZNAME:CDT
DTSTART:20230312T080000
END:DAYLIGHT
BEGIN:STANDARD
TZOFFSETFROM:-0500
TZOFFSETTO:-0600
TZNAME:CST
DTSTART:20231105T070000
END:STANDARD
BEGIN:DAYLIGHT
TZOFFSETFROM:-0600
TZOFFSETTO:-0500
TZNAME:CDT
DTSTART:20240310T080000
END:DAYLIGHT
BEGIN:STANDARD
TZOFFSETFROM:-0500
TZOFFSETTO:-0600
TZNAME:CST
DTSTART:20241103T070000
END:STANDARD
BEGIN:DAYLIGHT
TZOFFSETFROM:-0600
TZOFFSETTO:-0500
TZNAME:CDT
DTSTART:20250309T080000
END:DAYLIGHT
BEGIN:STANDARD
TZOFFSETFROM:-0500
TZOFFSETTO:-0600
TZNAME:CST
DTSTART:20251102T070000
END:STANDARD
END:VTIMEZONE
BEGIN:VEVENT
DTSTART;TZID=America/Chicago:20241211T183000
DTEND;TZID=America/Chicago:20241211T193000
DTSTAMP:20260425T111453
CREATED:20241119T225446Z
LAST-MODIFIED:20241119T225446Z
UID:33607-1733941800-1733945400@easternmeadows.org
SUMMARY:Mid-Week Bible Study
DESCRIPTION:
URL:https://easternmeadows.org/event/mid-week-bible-study-227/
LOCATION:Eastern Meadows Church of Christ\, 8460 Vaughn Road\, Montgomery\, AL\, 36117\, United States
CATEGORIES:Public
END:VEVENT
BEGIN:VEVENT
DTSTART;TZID=America/Chicago:20241208T170000
DTEND;TZID=America/Chicago:20241208T180000
DTSTAMP:20260425T111453
CREATED:20241119T225420Z
LAST-MODIFIED:20241119T225420Z
UID:33602-1733677200-1733680800@easternmeadows.org
SUMMARY:PM Worship
DESCRIPTION:
URL:https://easternmeadows.org/event/pm-worship-212/
LOCATION:Eastern Meadows Church of Christ\, 8460 Vaughn Road\, Montgomery\, AL\, 36117\, United States
CATEGORIES:Public
END:VEVENT
BEGIN:VEVENT
DTSTART;TZID=America/Chicago:20241208T100000
DTEND;TZID=America/Chicago:20241208T110000
DTSTAMP:20260425T111453
CREATED:20241119T225408Z
LAST-MODIFIED:20241119T225408Z
UID:33601-1733652000-1733655600@easternmeadows.org
SUMMARY:AM Worship
DESCRIPTION:
URL:https://easternmeadows.org/event/am-worship-260/
LOCATION:Eastern Meadows Church of Christ\, 8460 Vaughn Road\, Montgomery\, AL\, 36117\, United States
CATEGORIES:Public
END:VEVENT
BEGIN:VEVENT
DTSTART;TZID=America/Chicago:20241208T090000
DTEND;TZID=America/Chicago:20241208T094500
DTSTAMP:20260425T111453
CREATED:20241119T225359Z
LAST-MODIFIED:20241119T225359Z
UID:33600-1733648400-1733651100@easternmeadows.org
SUMMARY:Bible Class
DESCRIPTION:
URL:https://easternmeadows.org/event/bible-class-227/
LOCATION:Eastern Meadows Church of Christ\, 8460 Vaughn Road\, Montgomery\, AL\, 36117\, United States
CATEGORIES:Public
END:VEVENT
BEGIN:VEVENT
DTSTART;TZID=America/Chicago:20241204T183000
DTEND;TZID=America/Chicago:20241204T193000
DTSTAMP:20260425T111453
CREATED:20241119T225351Z
LAST-MODIFIED:20241119T225351Z
UID:33599-1733337000-1733340600@easternmeadows.org
SUMMARY:Mid-Week Bible Study
DESCRIPTION:
URL:https://easternmeadows.org/event/mid-week-bible-study-226/
LOCATION:Eastern Meadows Church of Christ\, 8460 Vaughn Road\, Montgomery\, AL\, 36117\, United States
CATEGORIES:Public
END:VEVENT
BEGIN:VEVENT
DTSTART;TZID=America/Chicago:20241201T170000
DTEND;TZID=America/Chicago:20241201T180000
DTSTAMP:20260425T111453
CREATED:20241119T225248Z
LAST-MODIFIED:20241119T225248Z
UID:33594-1733072400-1733076000@easternmeadows.org
SUMMARY:PM Worship
DESCRIPTION:
URL:https://easternmeadows.org/event/pm-worship-211/
LOCATION:Eastern Meadows Church of Christ\, 8460 Vaughn Road\, Montgomery\, AL\, 36117\, United States
CATEGORIES:Public
END:VEVENT
BEGIN:VEVENT
DTSTART;TZID=America/Chicago:20241201T100000
DTEND;TZID=America/Chicago:20241201T110000
DTSTAMP:20260425T111453
CREATED:20241119T225237Z
LAST-MODIFIED:20241119T225237Z
UID:33593-1733047200-1733050800@easternmeadows.org
SUMMARY:AM Worship
DESCRIPTION:
URL:https://easternmeadows.org/event/am-worship-259/
LOCATION:Eastern Meadows Church of Christ\, 8460 Vaughn Road\, Montgomery\, AL\, 36117\, United States
CATEGORIES:Public
END:VEVENT
BEGIN:VEVENT
DTSTART;TZID=America/Chicago:20241201T090000
DTEND;TZID=America/Chicago:20241201T094500
DTSTAMP:20260425T111453
CREATED:20241119T225227Z
LAST-MODIFIED:20241119T225227Z
UID:33592-1733043600-1733046300@easternmeadows.org
SUMMARY:Bible Class
DESCRIPTION:
URL:https://easternmeadows.org/event/bible-class-226/
LOCATION:Eastern Meadows Church of Christ\, 8460 Vaughn Road\, Montgomery\, AL\, 36117\, United States
CATEGORIES:Public
END:VEVENT
BEGIN:VEVENT
DTSTART;TZID=America/Chicago:20241126T183000
DTEND;TZID=America/Chicago:20241126T193000
DTSTAMP:20260425T111453
CREATED:20241119T225215Z
LAST-MODIFIED:20241119T225215Z
UID:33591-1732645800-1732649400@easternmeadows.org
SUMMARY:Mid-Week Bible Study
DESCRIPTION:
URL:https://easternmeadows.org/event/mid-week-bible-study-225/
LOCATION:Eastern Meadows Church of Christ\, 8460 Vaughn Road\, Montgomery\, AL\, 36117\, United States
CATEGORIES:Public
END:VEVENT
BEGIN:VEVENT
DTSTART;TZID=America/Chicago:20241124T170000
DTEND;TZID=America/Chicago:20241124T180000
DTSTAMP:20260425T111453
CREATED:20241030T014721Z
LAST-MODIFIED:20241030T014721Z
UID:33558-1732467600-1732471200@easternmeadows.org
SUMMARY:PM Worship
DESCRIPTION:
URL:https://easternmeadows.org/event/pm-worship-210/
LOCATION:Eastern Meadows Church of Christ\, 8460 Vaughn Road\, Montgomery\, AL\, 36117\, United States
CATEGORIES:Public
END:VEVENT
BEGIN:VEVENT
DTSTART;TZID=America/Chicago:20241124T100000
DTEND;TZID=America/Chicago:20241124T110000
DTSTAMP:20260425T111453
CREATED:20241030T014711Z
LAST-MODIFIED:20241030T014711Z
UID:33557-1732442400-1732446000@easternmeadows.org
SUMMARY:AM Worship
DESCRIPTION:
URL:https://easternmeadows.org/event/am-worship-258/
LOCATION:Eastern Meadows Church of Christ\, 8460 Vaughn Road\, Montgomery\, AL\, 36117\, United States
CATEGORIES:Public
END:VEVENT
BEGIN:VEVENT
DTSTART;TZID=America/Chicago:20241124T090000
DTEND;TZID=America/Chicago:20241124T094500
DTSTAMP:20260425T111453
CREATED:20241030T014637Z
LAST-MODIFIED:20241030T014637Z
UID:33556-1732438800-1732441500@easternmeadows.org
SUMMARY:Bible Class
DESCRIPTION:
URL:https://easternmeadows.org/event/bible-class-225/
LOCATION:Eastern Meadows Church of Christ\, 8460 Vaughn Road\, Montgomery\, AL\, 36117\, United States
CATEGORIES:Public
END:VEVENT
BEGIN:VEVENT
DTSTART;TZID=America/Chicago:20241120T183000
DTEND;TZID=America/Chicago:20241120T193000
DTSTAMP:20260425T111453
CREATED:20241030T014625Z
LAST-MODIFIED:20241030T014625Z
UID:33555-1732127400-1732131000@easternmeadows.org
SUMMARY:Mid-Week Bible Study
DESCRIPTION:
URL:https://easternmeadows.org/event/mid-week-bible-study-224/
LOCATION:Eastern Meadows Church of Christ\, 8460 Vaughn Road\, Montgomery\, AL\, 36117\, United States
CATEGORIES:Public
END:VEVENT
BEGIN:VEVENT
DTSTART;TZID=America/Chicago:20241117T170000
DTEND;TZID=America/Chicago:20241117T180000
DTSTAMP:20260425T111453
CREATED:20241030T014543Z
LAST-MODIFIED:20241030T014543Z
UID:33550-1731862800-1731866400@easternmeadows.org
SUMMARY:PM Worship
DESCRIPTION:
URL:https://easternmeadows.org/event/pm-worship-209/
LOCATION:Eastern Meadows Church of Christ\, 8460 Vaughn Road\, Montgomery\, AL\, 36117\, United States
CATEGORIES:Public
END:VEVENT
BEGIN:VEVENT
DTSTART;TZID=America/Chicago:20241117T100000
DTEND;TZID=America/Chicago:20241117T110000
DTSTAMP:20260425T111453
CREATED:20241030T014530Z
LAST-MODIFIED:20241030T014530Z
UID:33549-1731837600-1731841200@easternmeadows.org
SUMMARY:AM Worship
DESCRIPTION:
URL:https://easternmeadows.org/event/am-worship-257/
LOCATION:Eastern Meadows Church of Christ\, 8460 Vaughn Road\, Montgomery\, AL\, 36117\, United States
CATEGORIES:Public
END:VEVENT
BEGIN:VEVENT
DTSTART;TZID=America/Chicago:20241117T090000
DTEND;TZID=America/Chicago:20241117T094500
DTSTAMP:20260425T111453
CREATED:20241030T014517Z
LAST-MODIFIED:20241030T014517Z
UID:33548-1731834000-1731836700@easternmeadows.org
SUMMARY:Bible Class
DESCRIPTION:
URL:https://easternmeadows.org/event/bible-class-224/
LOCATION:Eastern Meadows Church of Christ\, 8460 Vaughn Road\, Montgomery\, AL\, 36117\, United States
CATEGORIES:Public
END:VEVENT
BEGIN:VEVENT
DTSTART;TZID=America/Chicago:20241113T183000
DTEND;TZID=America/Chicago:20241113T193000
DTSTAMP:20260425T111453
CREATED:20241030T014508Z
LAST-MODIFIED:20241030T014508Z
UID:33547-1731522600-1731526200@easternmeadows.org
SUMMARY:Mid-Week Bible Study
DESCRIPTION:
URL:https://easternmeadows.org/event/mid-week-bible-study-223/
LOCATION:Eastern Meadows Church of Christ\, 8460 Vaughn Road\, Montgomery\, AL\, 36117\, United States
CATEGORIES:Public
END:VEVENT
BEGIN:VEVENT
DTSTART;TZID=America/Chicago:20241110T173000
DTEND;TZID=America/Chicago:20241110T184500
DTSTAMP:20260425T111453
CREATED:20241030T014311Z
LAST-MODIFIED:20241030T014311Z
UID:33545-1731259800-1731264300@easternmeadows.org
SUMMARY:Faulkner University Chorus Performance
DESCRIPTION:
URL:https://easternmeadows.org/event/faulkner-university-chorus-performance/
LOCATION:Eastern Meadows Church of Christ\, 8460 Vaughn Road\, Montgomery\, AL\, 36117\, United States
CATEGORIES:Public
ATTACH;FMTTYPE=image/png:https://easternmeadows.org/wp-content/uploads/2024/10/Chorus-Performance-color.png
END:VEVENT
BEGIN:VEVENT
DTSTART;TZID=America/Chicago:20241110T170000
DTEND;TZID=America/Chicago:20241110T173000
DTSTAMP:20260425T111453
CREATED:20241013T234534Z
LAST-MODIFIED:20241030T014415Z
UID:33506-1731258000-1731259800@easternmeadows.org
SUMMARY:PM Worship
DESCRIPTION:
URL:https://easternmeadows.org/event/pm-worship-208/
LOCATION:Eastern Meadows Church of Christ\, 8460 Vaughn Road\, Montgomery\, AL\, 36117\, United States
CATEGORIES:Public
END:VEVENT
BEGIN:VEVENT
DTSTART;TZID=America/Chicago:20241110T100000
DTEND;TZID=America/Chicago:20241110T110000
DTSTAMP:20260425T111453
CREATED:20241013T234440Z
LAST-MODIFIED:20241013T234440Z
UID:33505-1731232800-1731236400@easternmeadows.org
SUMMARY:AM Worship
DESCRIPTION:
URL:https://easternmeadows.org/event/am-worship-256/
LOCATION:Eastern Meadows Church of Christ\, 8460 Vaughn Road\, Montgomery\, AL\, 36117\, United States
CATEGORIES:Public
END:VEVENT
BEGIN:VEVENT
DTSTART;TZID=America/Chicago:20241110T090000
DTEND;TZID=America/Chicago:20241110T094500
DTSTAMP:20260425T111453
CREATED:20241013T234418Z
LAST-MODIFIED:20241013T234418Z
UID:33504-1731229200-1731231900@easternmeadows.org
SUMMARY:Bible Class
DESCRIPTION:
URL:https://easternmeadows.org/event/bible-class-223/
LOCATION:Eastern Meadows Church of Christ\, 8460 Vaughn Road\, Montgomery\, AL\, 36117\, United States
CATEGORIES:Public
END:VEVENT
BEGIN:VEVENT
DTSTART;TZID=America/Chicago:20241106T183000
DTEND;TZID=America/Chicago:20241106T193000
DTSTAMP:20260425T111453
CREATED:20241013T234400Z
LAST-MODIFIED:20241013T234400Z
UID:33503-1730917800-1730921400@easternmeadows.org
SUMMARY:Mid-Week Bible Study
DESCRIPTION:
URL:https://easternmeadows.org/event/mid-week-bible-study-222/
LOCATION:Eastern Meadows Church of Christ\, 8460 Vaughn Road\, Montgomery\, AL\, 36117\, United States
CATEGORIES:Public
END:VEVENT
BEGIN:VEVENT
DTSTART;TZID=America/Chicago:20241104T183000
DTEND;TZID=America/Chicago:20241104T193000
DTSTAMP:20260425T111453
CREATED:20241013T234213Z
LAST-MODIFIED:20241013T234213Z
UID:33498-1730745000-1730748600@easternmeadows.org
SUMMARY:Gospel Meeting with Anthony Dismuke
DESCRIPTION:
URL:https://easternmeadows.org/event/gospel-meeting-with-anthony-dismuke/
LOCATION:Eastern Meadows Church of Christ\, 8460 Vaughn Road\, Montgomery\, AL\, 36117\, United States
CATEGORIES:Public
END:VEVENT
BEGIN:VEVENT
DTSTART;TZID=America/Chicago:20241103T170000
DTEND;TZID=America/Chicago:20241103T180000
DTSTAMP:20260425T111453
CREATED:20241030T014105Z
LAST-MODIFIED:20241030T014105Z
UID:33543-1730653200-1730656800@easternmeadows.org
SUMMARY:Area-Wide Youth Devo
DESCRIPTION:
URL:https://easternmeadows.org/event/area-wide-youth-devo/
LOCATION:Eastern Meadows Church of Christ\, 8460 Vaughn Road\, Montgomery\, AL\, 36117\, United States
CATEGORIES:Public
END:VEVENT
BEGIN:VEVENT
DTSTART;TZID=America/Chicago:20241103T123000
DTEND;TZID=America/Chicago:20241103T133000
DTSTAMP:20260425T111453
CREATED:20240926T224642Z
LAST-MODIFIED:20241013T234314Z
UID:33353-1730637000-1730640600@easternmeadows.org
SUMMARY:PM Worship - Gospel Meeting with Anthony Dismuke
DESCRIPTION:
URL:https://easternmeadows.org/event/pm-worship-207/
LOCATION:Eastern Meadows Church of Christ\, 8460 Vaughn Road\, Montgomery\, AL\, 36117\, United States
CATEGORIES:Public
END:VEVENT
BEGIN:VEVENT
DTSTART;TZID=America/Chicago:20241103T100000
DTEND;TZID=America/Chicago:20241103T110000
DTSTAMP:20260425T111453
CREATED:20240926T224616Z
LAST-MODIFIED:20241013T234321Z
UID:33352-1730628000-1730631600@easternmeadows.org
SUMMARY:AM Worship - Gospel Meeting with Anthony Dismuke
DESCRIPTION:
URL:https://easternmeadows.org/event/am-worship-255/
LOCATION:Eastern Meadows Church of Christ\, 8460 Vaughn Road\, Montgomery\, AL\, 36117\, United States
CATEGORIES:Public
END:VEVENT
BEGIN:VEVENT
DTSTART;TZID=America/Chicago:20241103T090000
DTEND;TZID=America/Chicago:20241103T094500
DTSTAMP:20260425T111453
CREATED:20240926T224605Z
LAST-MODIFIED:20241013T234328Z
UID:33351-1730624400-1730627100@easternmeadows.org
SUMMARY:Bible Class - Gospel Meeting with Anthony Dismuke
DESCRIPTION:
URL:https://easternmeadows.org/event/bible-class-222/
LOCATION:Eastern Meadows Church of Christ\, 8460 Vaughn Road\, Montgomery\, AL\, 36117\, United States
CATEGORIES:Public
END:VEVENT
BEGIN:VEVENT
DTSTART;TZID=America/Chicago:20241030T183000
DTEND;TZID=America/Chicago:20241030T193000
DTSTAMP:20260425T111453
CREATED:20240926T224545Z
LAST-MODIFIED:20240926T225023Z
UID:33350-1730313000-1730316600@easternmeadows.org
SUMMARY:Mid-Week Bible Study
DESCRIPTION:
URL:https://easternmeadows.org/event/mid-week-bible-study-221/
LOCATION:Eastern Meadows Church of Christ\, 8460 Vaughn Road\, Montgomery\, AL\, 36117\, United States
CATEGORIES:Public
END:VEVENT
BEGIN:VEVENT
DTSTART;TZID=America/Chicago:20241027T180000
DTEND;TZID=America/Chicago:20241027T190000
DTSTAMP:20260425T111453
CREATED:20241014T213352Z
LAST-MODIFIED:20241014T213352Z
UID:33512-1730052000-1730055600@easternmeadows.org
SUMMARY:Trunk or Treat!
DESCRIPTION:
URL:https://easternmeadows.org/event/trunk-or-treat-2/
LOCATION:Eastern Meadows Church of Christ\, 8460 Vaughn Road\, Montgomery\, AL\, 36117\, United States
CATEGORIES:Public
ATTACH;FMTTYPE=image/png:https://easternmeadows.org/wp-content/uploads/2024/10/Eastern-Meadows-Trunk-or-Treat-2024.png
END:VEVENT
BEGIN:VEVENT
DTSTART;TZID=America/Chicago:20241027T170000
DTEND;TZID=America/Chicago:20241027T180000
DTSTAMP:20260425T111453
CREATED:20240926T224516Z
LAST-MODIFIED:20240926T224516Z
UID:33345-1730048400-1730052000@easternmeadows.org
SUMMARY:PM Worship
DESCRIPTION:
URL:https://easternmeadows.org/event/pm-worship-206/
LOCATION:Eastern Meadows Church of Christ\, 8460 Vaughn Road\, Montgomery\, AL\, 36117\, United States
CATEGORIES:Public
END:VEVENT
END:VCALENDAR