BEGIN:VCALENDAR
VERSION:2.0
PRODID:-//Eastern Meadows Church of Christ - ECPv6.15.20//NONSGML v1.0//EN
CALSCALE:GREGORIAN
METHOD:PUBLISH
X-WR-CALNAME:Eastern Meadows Church of Christ
X-ORIGINAL-URL:https://easternmeadows.org
X-WR-CALDESC:Events for Eastern Meadows Church of Christ
REFRESH-INTERVAL;VALUE=DURATION:PT1H
X-Robots-Tag:noindex
X-PUBLISHED-TTL:PT1H
BEGIN:VTIMEZONE
TZID:America/Chicago
BEGIN:DAYLIGHT
TZOFFSETFROM:-0600
TZOFFSETTO:-0500
TZNAME:CDT
DTSTART:20240310T080000
END:DAYLIGHT
BEGIN:STANDARD
TZOFFSETFROM:-0500
TZOFFSETTO:-0600
TZNAME:CST
DTSTART:20241103T070000
END:STANDARD
BEGIN:DAYLIGHT
TZOFFSETFROM:-0600
TZOFFSETTO:-0500
TZNAME:CDT
DTSTART:20250309T080000
END:DAYLIGHT
BEGIN:STANDARD
TZOFFSETFROM:-0500
TZOFFSETTO:-0600
TZNAME:CST
DTSTART:20251102T070000
END:STANDARD
BEGIN:DAYLIGHT
TZOFFSETFROM:-0600
TZOFFSETTO:-0500
TZNAME:CDT
DTSTART:20260308T080000
END:DAYLIGHT
BEGIN:STANDARD
TZOFFSETFROM:-0500
TZOFFSETTO:-0600
TZNAME:CST
DTSTART:20261101T070000
END:STANDARD
END:VTIMEZONE
BEGIN:VEVENT
DTSTART;TZID=America/Chicago:20250323T090000
DTEND;TZID=America/Chicago:20250323T094500
DTSTAMP:20260425T053758
CREATED:20250129T012116Z
LAST-MODIFIED:20250129T012116Z
UID:33849-1742720400-1742723100@easternmeadows.org
SUMMARY:Bible Class
DESCRIPTION:
URL:https://easternmeadows.org/event/bible-class-242/
LOCATION:Eastern Meadows Church of Christ\, 8460 Vaughn Road\, Montgomery\, AL\, 36117\, United States
CATEGORIES:Public
END:VEVENT
BEGIN:VEVENT
DTSTART;TZID=America/Chicago:20250319T183000
DTEND;TZID=America/Chicago:20250319T193000
DTSTAMP:20260425T053758
CREATED:20250129T012050Z
LAST-MODIFIED:20250129T012050Z
UID:33844-1742409000-1742412600@easternmeadows.org
SUMMARY:Mid-Week Bible Study
DESCRIPTION:
URL:https://easternmeadows.org/event/mid-week-bible-study-241/
LOCATION:Eastern Meadows Church of Christ\, 8460 Vaughn Road\, Montgomery\, AL\, 36117\, United States
CATEGORIES:Public
END:VEVENT
BEGIN:VEVENT
DTSTART;TZID=America/Chicago:20250316T170000
DTEND;TZID=America/Chicago:20250316T180000
DTSTAMP:20260425T053758
CREATED:20250129T012040Z
LAST-MODIFIED:20250129T012040Z
UID:33843-1742144400-1742148000@easternmeadows.org
SUMMARY:PM Worship
DESCRIPTION:
URL:https://easternmeadows.org/event/pm-worship-226/
LOCATION:Eastern Meadows Church of Christ\, 8460 Vaughn Road\, Montgomery\, AL\, 36117\, United States
CATEGORIES:Public
END:VEVENT
BEGIN:VEVENT
DTSTART;TZID=America/Chicago:20250316T100000
DTEND;TZID=America/Chicago:20250316T110000
DTSTAMP:20260425T053758
CREATED:20250129T012032Z
LAST-MODIFIED:20250129T012032Z
UID:33842-1742119200-1742122800@easternmeadows.org
SUMMARY:AM Worship
DESCRIPTION:
URL:https://easternmeadows.org/event/am-worship-274/
LOCATION:Eastern Meadows Church of Christ\, 8460 Vaughn Road\, Montgomery\, AL\, 36117\, United States
CATEGORIES:Public
END:VEVENT
BEGIN:VEVENT
DTSTART;TZID=America/Chicago:20250316T090000
DTEND;TZID=America/Chicago:20250316T094500
DTSTAMP:20260425T053758
CREATED:20250129T012024Z
LAST-MODIFIED:20250129T012024Z
UID:33841-1742115600-1742118300@easternmeadows.org
SUMMARY:Bible Class
DESCRIPTION:
URL:https://easternmeadows.org/event/bible-class-241/
LOCATION:Eastern Meadows Church of Christ\, 8460 Vaughn Road\, Montgomery\, AL\, 36117\, United States
CATEGORIES:Public
END:VEVENT
BEGIN:VEVENT
DTSTART;TZID=America/Chicago:20250312T183000
DTEND;TZID=America/Chicago:20250312T193000
DTSTAMP:20260425T053758
CREATED:20250129T011954Z
LAST-MODIFIED:20250129T011954Z
UID:33836-1741804200-1741807800@easternmeadows.org
SUMMARY:Mid-Week Bible Study
DESCRIPTION:
URL:https://easternmeadows.org/event/mid-week-bible-study-240/
LOCATION:Eastern Meadows Church of Christ\, 8460 Vaughn Road\, Montgomery\, AL\, 36117\, United States
CATEGORIES:Public
END:VEVENT
BEGIN:VEVENT
DTSTART;TZID=America/Chicago:20250309T170000
DTEND;TZID=America/Chicago:20250309T180000
DTSTAMP:20260425T053758
CREATED:20250129T011947Z
LAST-MODIFIED:20250129T011947Z
UID:33835-1741539600-1741543200@easternmeadows.org
SUMMARY:PM Worship
DESCRIPTION:
URL:https://easternmeadows.org/event/pm-worship-225/
LOCATION:Eastern Meadows Church of Christ\, 8460 Vaughn Road\, Montgomery\, AL\, 36117\, United States
CATEGORIES:Public
END:VEVENT
BEGIN:VEVENT
DTSTART;TZID=America/Chicago:20250309T100000
DTEND;TZID=America/Chicago:20250309T110000
DTSTAMP:20260425T053758
CREATED:20250129T011937Z
LAST-MODIFIED:20250129T011937Z
UID:33834-1741514400-1741518000@easternmeadows.org
SUMMARY:AM Worship
DESCRIPTION:
URL:https://easternmeadows.org/event/am-worship-273/
LOCATION:Eastern Meadows Church of Christ\, 8460 Vaughn Road\, Montgomery\, AL\, 36117\, United States
CATEGORIES:Public
END:VEVENT
BEGIN:VEVENT
DTSTART;TZID=America/Chicago:20250309T090000
DTEND;TZID=America/Chicago:20250309T094500
DTSTAMP:20260425T053758
CREATED:20250129T011928Z
LAST-MODIFIED:20250129T011928Z
UID:33833-1741510800-1741513500@easternmeadows.org
SUMMARY:Bible Class
DESCRIPTION:
URL:https://easternmeadows.org/event/bible-class-240/
LOCATION:Eastern Meadows Church of Christ\, 8460 Vaughn Road\, Montgomery\, AL\, 36117\, United States
CATEGORIES:Public
END:VEVENT
BEGIN:VEVENT
DTSTART;TZID=America/Chicago:20250305T183000
DTEND;TZID=America/Chicago:20250305T193000
DTSTAMP:20260425T053758
CREATED:20250129T011857Z
LAST-MODIFIED:20250129T011857Z
UID:33828-1741199400-1741203000@easternmeadows.org
SUMMARY:Mid-Week Bible Study
DESCRIPTION:
URL:https://easternmeadows.org/event/mid-week-bible-study-239/
LOCATION:Eastern Meadows Church of Christ\, 8460 Vaughn Road\, Montgomery\, AL\, 36117\, United States
CATEGORIES:Public
END:VEVENT
BEGIN:VEVENT
DTSTART;TZID=America/Chicago:20250302T170000
DTEND;TZID=America/Chicago:20250302T180000
DTSTAMP:20260425T053758
CREATED:20250129T011820Z
LAST-MODIFIED:20250129T011820Z
UID:33827-1740934800-1740938400@easternmeadows.org
SUMMARY:PM Worship
DESCRIPTION:
URL:https://easternmeadows.org/event/pm-worship-224/
LOCATION:Eastern Meadows Church of Christ\, 8460 Vaughn Road\, Montgomery\, AL\, 36117\, United States
CATEGORIES:Public
END:VEVENT
BEGIN:VEVENT
DTSTART;TZID=America/Chicago:20250302T100000
DTEND;TZID=America/Chicago:20250302T110000
DTSTAMP:20260425T053758
CREATED:20250129T011654Z
LAST-MODIFIED:20250129T011654Z
UID:33826-1740909600-1740913200@easternmeadows.org
SUMMARY:AM Worship
DESCRIPTION:
URL:https://easternmeadows.org/event/am-worship-272/
LOCATION:Eastern Meadows Church of Christ\, 8460 Vaughn Road\, Montgomery\, AL\, 36117\, United States
CATEGORIES:Public
END:VEVENT
BEGIN:VEVENT
DTSTART;TZID=America/Chicago:20250302T090000
DTEND;TZID=America/Chicago:20250302T094500
DTSTAMP:20260425T053758
CREATED:20250129T011639Z
LAST-MODIFIED:20250129T011639Z
UID:33825-1740906000-1740908700@easternmeadows.org
SUMMARY:Bible Class
DESCRIPTION:
URL:https://easternmeadows.org/event/bible-class-239/
LOCATION:Eastern Meadows Church of Christ\, 8460 Vaughn Road\, Montgomery\, AL\, 36117\, United States
CATEGORIES:Public
END:VEVENT
BEGIN:VEVENT
DTSTART;TZID=America/Chicago:20250226T183000
DTEND;TZID=America/Chicago:20250226T193000
DTSTAMP:20260425T053758
CREATED:20250106T025745Z
LAST-MODIFIED:20250106T025745Z
UID:33778-1740594600-1740598200@easternmeadows.org
SUMMARY:Mid-Week Bible Study
DESCRIPTION:
URL:https://easternmeadows.org/event/mid-week-bible-study-238/
LOCATION:Eastern Meadows Church of Christ\, 8460 Vaughn Road\, Montgomery\, AL\, 36117\, United States
CATEGORIES:Public
END:VEVENT
BEGIN:VEVENT
DTSTART;TZID=America/Chicago:20250223T130000
DTEND;TZID=America/Chicago:20250223T140000
DTSTAMP:20260425T053758
CREATED:20250106T025710Z
LAST-MODIFIED:20250129T011836Z
UID:33773-1740315600-1740319200@easternmeadows.org
SUMMARY:PM Worship
DESCRIPTION:
URL:https://easternmeadows.org/event/pm-worship-223/
LOCATION:Eastern Meadows Church of Christ\, 8460 Vaughn Road\, Montgomery\, AL\, 36117\, United States
CATEGORIES:Public
END:VEVENT
BEGIN:VEVENT
DTSTART;TZID=America/Chicago:20250223T100000
DTEND;TZID=America/Chicago:20250223T110000
DTSTAMP:20260425T053758
CREATED:20250106T025650Z
LAST-MODIFIED:20250106T025650Z
UID:33772-1740304800-1740308400@easternmeadows.org
SUMMARY:AM Worship
DESCRIPTION:
URL:https://easternmeadows.org/event/am-worship-271/
LOCATION:Eastern Meadows Church of Christ\, 8460 Vaughn Road\, Montgomery\, AL\, 36117\, United States
CATEGORIES:Public
END:VEVENT
BEGIN:VEVENT
DTSTART;TZID=America/Chicago:20250223T090000
DTEND;TZID=America/Chicago:20250223T140000
DTSTAMP:20260425T053758
CREATED:20241212T193540Z
LAST-MODIFIED:20241212T193540Z
UID:33695-1740301200-1740319200@easternmeadows.org
SUMMARY:Now Is the Time Seminar
DESCRIPTION:
URL:https://easternmeadows.org/event/now-is-the-time-seminar-2/
LOCATION:Eastern Meadows Church of Christ\, 8460 Vaughn Road\, Montgomery\, AL\, 36117\, United States
CATEGORIES:Public
END:VEVENT
BEGIN:VEVENT
DTSTART;TZID=America/Chicago:20250223T090000
DTEND;TZID=America/Chicago:20250223T094500
DTSTAMP:20260425T053758
CREATED:20250106T025636Z
LAST-MODIFIED:20250106T025636Z
UID:33771-1740301200-1740303900@easternmeadows.org
SUMMARY:Bible Class
DESCRIPTION:
URL:https://easternmeadows.org/event/bible-class-238/
LOCATION:Eastern Meadows Church of Christ\, 8460 Vaughn Road\, Montgomery\, AL\, 36117\, United States
CATEGORIES:Public
END:VEVENT
BEGIN:VEVENT
DTSTART;TZID=America/Chicago:20250222T123000
DTEND;TZID=America/Chicago:20250222T163000
DTSTAMP:20260425T053758
CREATED:20241212T193437Z
LAST-MODIFIED:20241212T193437Z
UID:33693-1740227400-1740241800@easternmeadows.org
SUMMARY:Now Is the Time Seminar
DESCRIPTION:
URL:https://easternmeadows.org/event/now-is-the-time-seminar/
LOCATION:Eastern Meadows Church of Christ\, 8460 Vaughn Road\, Montgomery\, AL\, 36117\, United States
CATEGORIES:Public
END:VEVENT
BEGIN:VEVENT
DTSTART;TZID=America/Chicago:20250219T183000
DTEND;TZID=America/Chicago:20250219T193000
DTSTAMP:20260425T053758
CREATED:20250106T025617Z
LAST-MODIFIED:20250106T025617Z
UID:33770-1739989800-1739993400@easternmeadows.org
SUMMARY:Mid-Week Bible Study
DESCRIPTION:
URL:https://easternmeadows.org/event/mid-week-bible-study-237/
LOCATION:Eastern Meadows Church of Christ\, 8460 Vaughn Road\, Montgomery\, AL\, 36117\, United States
CATEGORIES:Public
END:VEVENT
BEGIN:VEVENT
DTSTART;TZID=America/Chicago:20250216T170000
DTEND;TZID=America/Chicago:20250216T180000
DTSTAMP:20260425T053758
CREATED:20250106T025437Z
LAST-MODIFIED:20250106T025437Z
UID:33765-1739725200-1739728800@easternmeadows.org
SUMMARY:PM Worship
DESCRIPTION:
URL:https://easternmeadows.org/event/pm-worship-222/
LOCATION:Eastern Meadows Church of Christ\, 8460 Vaughn Road\, Montgomery\, AL\, 36117\, United States
CATEGORIES:Public
END:VEVENT
BEGIN:VEVENT
DTSTART;TZID=America/Chicago:20250216T100000
DTEND;TZID=America/Chicago:20250216T110000
DTSTAMP:20260425T053758
CREATED:20250106T025424Z
LAST-MODIFIED:20250106T025424Z
UID:33764-1739700000-1739703600@easternmeadows.org
SUMMARY:AM Worship
DESCRIPTION:
URL:https://easternmeadows.org/event/am-worship-270/
LOCATION:Eastern Meadows Church of Christ\, 8460 Vaughn Road\, Montgomery\, AL\, 36117\, United States
CATEGORIES:Public
END:VEVENT
BEGIN:VEVENT
DTSTART;TZID=America/Chicago:20250216T090000
DTEND;TZID=America/Chicago:20250216T094500
DTSTAMP:20260425T053758
CREATED:20250106T025409Z
LAST-MODIFIED:20250106T025409Z
UID:33763-1739696400-1739699100@easternmeadows.org
SUMMARY:Bible Class
DESCRIPTION:
URL:https://easternmeadows.org/event/bible-class-237/
LOCATION:Eastern Meadows Church of Christ\, 8460 Vaughn Road\, Montgomery\, AL\, 36117\, United States
CATEGORIES:Public
END:VEVENT
BEGIN:VEVENT
DTSTART;TZID=America/Chicago:20250212T183000
DTEND;TZID=America/Chicago:20250212T193000
DTSTAMP:20260425T053758
CREATED:20250106T025403Z
LAST-MODIFIED:20250106T025403Z
UID:33762-1739385000-1739388600@easternmeadows.org
SUMMARY:Mid-Week Bible Study
DESCRIPTION:
URL:https://easternmeadows.org/event/mid-week-bible-study-236/
LOCATION:Eastern Meadows Church of Christ\, 8460 Vaughn Road\, Montgomery\, AL\, 36117\, United States
CATEGORIES:Public
END:VEVENT
BEGIN:VEVENT
DTSTART;TZID=America/Chicago:20250209T170000
DTEND;TZID=America/Chicago:20250209T180000
DTSTAMP:20260425T053758
CREATED:20250106T025027Z
LAST-MODIFIED:20250106T025027Z
UID:33757-1739120400-1739124000@easternmeadows.org
SUMMARY:PM Worship
DESCRIPTION:
URL:https://easternmeadows.org/event/pm-worship-221/
LOCATION:Eastern Meadows Church of Christ\, 8460 Vaughn Road\, Montgomery\, AL\, 36117\, United States
CATEGORIES:Public
END:VEVENT
BEGIN:VEVENT
DTSTART;TZID=America/Chicago:20250209T100000
DTEND;TZID=America/Chicago:20250209T110000
DTSTAMP:20260425T053758
CREATED:20250106T025020Z
LAST-MODIFIED:20250106T025020Z
UID:33756-1739095200-1739098800@easternmeadows.org
SUMMARY:AM Worship
DESCRIPTION:
URL:https://easternmeadows.org/event/am-worship-269/
LOCATION:Eastern Meadows Church of Christ\, 8460 Vaughn Road\, Montgomery\, AL\, 36117\, United States
CATEGORIES:Public
END:VEVENT
BEGIN:VEVENT
DTSTART;TZID=America/Chicago:20250209T090000
DTEND;TZID=America/Chicago:20250209T094500
DTSTAMP:20260425T053758
CREATED:20250106T025008Z
LAST-MODIFIED:20250106T025008Z
UID:33755-1739091600-1739094300@easternmeadows.org
SUMMARY:Bible Class
DESCRIPTION:
URL:https://easternmeadows.org/event/bible-class-236/
LOCATION:Eastern Meadows Church of Christ\, 8460 Vaughn Road\, Montgomery\, AL\, 36117\, United States
CATEGORIES:Public
END:VEVENT
BEGIN:VEVENT
DTSTART;TZID=America/Chicago:20250207T190000
DTEND;TZID=America/Chicago:20250207T203000
DTSTAMP:20260425T053758
CREATED:20250117T014927Z
LAST-MODIFIED:20250117T014927Z
UID:33799-1738954800-1738960200@easternmeadows.org
SUMMARY:Area-Wide Singing
DESCRIPTION:
URL:https://easternmeadows.org/event/area-wide-singing-2/
LOCATION:Eastern Meadows Church of Christ\, 8460 Vaughn Road\, Montgomery\, AL\, 36117\, United States
CATEGORIES:Public
ATTACH;FMTTYPE=image/png:https://easternmeadows.org/wp-content/uploads/2025/01/Area-Wide-Singing-Facebook-Post-Square.png
END:VEVENT
BEGIN:VEVENT
DTSTART;TZID=America/Chicago:20250205T183000
DTEND;TZID=America/Chicago:20250205T193000
DTSTAMP:20260425T053758
CREATED:20250106T024954Z
LAST-MODIFIED:20250106T025312Z
UID:33754-1738780200-1738783800@easternmeadows.org
SUMMARY:Mid-Week Bible Study
DESCRIPTION:
URL:https://easternmeadows.org/event/mid-week-bible-study-235/
LOCATION:Eastern Meadows Church of Christ\, 8460 Vaughn Road\, Montgomery\, AL\, 36117\, United States
CATEGORIES:Public
END:VEVENT
BEGIN:VEVENT
DTSTART;TZID=America/Chicago:20250202T170000
DTEND;TZID=America/Chicago:20250202T180000
DTSTAMP:20260425T053758
CREATED:20250106T024913Z
LAST-MODIFIED:20250106T024913Z
UID:33749-1738515600-1738519200@easternmeadows.org
SUMMARY:PM Worship
DESCRIPTION:
URL:https://easternmeadows.org/event/pm-worship-220/
LOCATION:Eastern Meadows Church of Christ\, 8460 Vaughn Road\, Montgomery\, AL\, 36117\, United States
CATEGORIES:Public
END:VEVENT
END:VCALENDAR