BEGIN:VCALENDAR
VERSION:2.0
PRODID:-//Eastern Meadows Church of Christ - ECPv6.15.20//NONSGML v1.0//EN
CALSCALE:GREGORIAN
METHOD:PUBLISH
X-WR-CALNAME:Eastern Meadows Church of Christ
X-ORIGINAL-URL:https://easternmeadows.org
X-WR-CALDESC:Events for Eastern Meadows Church of Christ
REFRESH-INTERVAL;VALUE=DURATION:PT1H
X-Robots-Tag:noindex
X-PUBLISHED-TTL:PT1H
BEGIN:VTIMEZONE
TZID:America/Chicago
BEGIN:DAYLIGHT
TZOFFSETFROM:-0600
TZOFFSETTO:-0500
TZNAME:CDT
DTSTART:20240310T080000
END:DAYLIGHT
BEGIN:STANDARD
TZOFFSETFROM:-0500
TZOFFSETTO:-0600
TZNAME:CST
DTSTART:20241103T070000
END:STANDARD
BEGIN:DAYLIGHT
TZOFFSETFROM:-0600
TZOFFSETTO:-0500
TZNAME:CDT
DTSTART:20250309T080000
END:DAYLIGHT
BEGIN:STANDARD
TZOFFSETFROM:-0500
TZOFFSETTO:-0600
TZNAME:CST
DTSTART:20251102T070000
END:STANDARD
BEGIN:DAYLIGHT
TZOFFSETFROM:-0600
TZOFFSETTO:-0500
TZNAME:CDT
DTSTART:20260308T080000
END:DAYLIGHT
BEGIN:STANDARD
TZOFFSETFROM:-0500
TZOFFSETTO:-0600
TZNAME:CST
DTSTART:20261101T070000
END:STANDARD
END:VTIMEZONE
BEGIN:VEVENT
DTSTART;TZID=America/Chicago:20250406T100000
DTEND;TZID=America/Chicago:20250406T110000
DTSTAMP:20260425T101419
CREATED:20250313T200557Z
LAST-MODIFIED:20250313T200557Z
UID:33945-1743933600-1743937200@easternmeadows.org
SUMMARY:AM Worship
DESCRIPTION:
URL:https://easternmeadows.org/event/am-worship-277/
LOCATION:Eastern Meadows Church of Christ\, 8460 Vaughn Road\, Montgomery\, AL\, 36117\, United States
CATEGORIES:Public
END:VEVENT
BEGIN:VEVENT
DTSTART;TZID=America/Chicago:20250406T170000
DTEND;TZID=America/Chicago:20250406T180000
DTSTAMP:20260425T101419
CREATED:20250313T200609Z
LAST-MODIFIED:20250313T200609Z
UID:33946-1743958800-1743962400@easternmeadows.org
SUMMARY:PM Worship
DESCRIPTION:
URL:https://easternmeadows.org/event/pm-worship-229/
LOCATION:Eastern Meadows Church of Christ\, 8460 Vaughn Road\, Montgomery\, AL\, 36117\, United States
CATEGORIES:Public
END:VEVENT
BEGIN:VEVENT
DTSTART;TZID=America/Chicago:20250409T183000
DTEND;TZID=America/Chicago:20250409T193000
DTSTAMP:20260425T101419
CREATED:20250313T200647Z
LAST-MODIFIED:20250313T200647Z
UID:33951-1744223400-1744227000@easternmeadows.org
SUMMARY:Mid-Week Bible Study
DESCRIPTION:
URL:https://easternmeadows.org/event/mid-week-bible-study-244/
LOCATION:Eastern Meadows Church of Christ\, 8460 Vaughn Road\, Montgomery\, AL\, 36117\, United States
CATEGORIES:Public
END:VEVENT
BEGIN:VEVENT
DTSTART;TZID=America/Chicago:20250413T090000
DTEND;TZID=America/Chicago:20250413T094500
DTSTAMP:20260425T101419
CREATED:20250313T200656Z
LAST-MODIFIED:20250313T200656Z
UID:33952-1744534800-1744537500@easternmeadows.org
SUMMARY:Bible Class
DESCRIPTION:
URL:https://easternmeadows.org/event/bible-class-245/
LOCATION:Eastern Meadows Church of Christ\, 8460 Vaughn Road\, Montgomery\, AL\, 36117\, United States
CATEGORIES:Public
END:VEVENT
BEGIN:VEVENT
DTSTART;TZID=America/Chicago:20250413T100000
DTEND;TZID=America/Chicago:20250413T110000
DTSTAMP:20260425T101419
CREATED:20250313T200705Z
LAST-MODIFIED:20250313T200705Z
UID:33953-1744538400-1744542000@easternmeadows.org
SUMMARY:AM Worship
DESCRIPTION:
URL:https://easternmeadows.org/event/am-worship-278/
LOCATION:Eastern Meadows Church of Christ\, 8460 Vaughn Road\, Montgomery\, AL\, 36117\, United States
CATEGORIES:Public
END:VEVENT
BEGIN:VEVENT
DTSTART;TZID=America/Chicago:20250413T170000
DTEND;TZID=America/Chicago:20250413T180000
DTSTAMP:20260425T101419
CREATED:20250313T200714Z
LAST-MODIFIED:20250313T200714Z
UID:33954-1744563600-1744567200@easternmeadows.org
SUMMARY:PM Worship
DESCRIPTION:
URL:https://easternmeadows.org/event/pm-worship-230/
LOCATION:Eastern Meadows Church of Christ\, 8460 Vaughn Road\, Montgomery\, AL\, 36117\, United States
CATEGORIES:Public
END:VEVENT
BEGIN:VEVENT
DTSTART;TZID=America/Chicago:20250416T183000
DTEND;TZID=America/Chicago:20250416T193000
DTSTAMP:20260425T101419
CREATED:20250313T200755Z
LAST-MODIFIED:20250313T200755Z
UID:33959-1744828200-1744831800@easternmeadows.org
SUMMARY:Mid-Week Bible Study
DESCRIPTION:
URL:https://easternmeadows.org/event/mid-week-bible-study-245/
LOCATION:Eastern Meadows Church of Christ\, 8460 Vaughn Road\, Montgomery\, AL\, 36117\, United States
CATEGORIES:Public
END:VEVENT
BEGIN:VEVENT
DTSTART;TZID=America/Chicago:20250420T090000
DTEND;TZID=America/Chicago:20250420T094500
DTSTAMP:20260425T101419
CREATED:20250313T200803Z
LAST-MODIFIED:20250313T200803Z
UID:33960-1745139600-1745142300@easternmeadows.org
SUMMARY:Bible Class
DESCRIPTION:
URL:https://easternmeadows.org/event/bible-class-246/
LOCATION:Eastern Meadows Church of Christ\, 8460 Vaughn Road\, Montgomery\, AL\, 36117\, United States
CATEGORIES:Public
END:VEVENT
BEGIN:VEVENT
DTSTART;TZID=America/Chicago:20250420T100000
DTEND;TZID=America/Chicago:20250420T110000
DTSTAMP:20260425T101419
CREATED:20250313T200811Z
LAST-MODIFIED:20250313T200811Z
UID:33961-1745143200-1745146800@easternmeadows.org
SUMMARY:AM Worship
DESCRIPTION:
URL:https://easternmeadows.org/event/am-worship-279/
LOCATION:Eastern Meadows Church of Christ\, 8460 Vaughn Road\, Montgomery\, AL\, 36117\, United States
CATEGORIES:Public
END:VEVENT
BEGIN:VEVENT
DTSTART;TZID=America/Chicago:20250420T170000
DTEND;TZID=America/Chicago:20250420T180000
DTSTAMP:20260425T101419
CREATED:20250313T200820Z
LAST-MODIFIED:20250313T200820Z
UID:33962-1745168400-1745172000@easternmeadows.org
SUMMARY:PM Worship
DESCRIPTION:
URL:https://easternmeadows.org/event/pm-worship-231/
LOCATION:Eastern Meadows Church of Christ\, 8460 Vaughn Road\, Montgomery\, AL\, 36117\, United States
CATEGORIES:Public
END:VEVENT
BEGIN:VEVENT
DTSTART;TZID=America/Chicago:20250423T183000
DTEND;TZID=America/Chicago:20250423T193000
DTSTAMP:20260425T101419
CREATED:20250313T200852Z
LAST-MODIFIED:20250313T200852Z
UID:33967-1745433000-1745436600@easternmeadows.org
SUMMARY:Mid-Week Bible Study
DESCRIPTION:
URL:https://easternmeadows.org/event/mid-week-bible-study-246/
LOCATION:Eastern Meadows Church of Christ\, 8460 Vaughn Road\, Montgomery\, AL\, 36117\, United States
CATEGORIES:Public
END:VEVENT
BEGIN:VEVENT
DTSTART;TZID=America/Chicago:20250427T090000
DTEND;TZID=America/Chicago:20250427T094500
DTSTAMP:20260425T101419
CREATED:20250313T200901Z
LAST-MODIFIED:20250313T200901Z
UID:33968-1745744400-1745747100@easternmeadows.org
SUMMARY:Bible Class
DESCRIPTION:
URL:https://easternmeadows.org/event/bible-class-247/
LOCATION:Eastern Meadows Church of Christ\, 8460 Vaughn Road\, Montgomery\, AL\, 36117\, United States
CATEGORIES:Public
END:VEVENT
BEGIN:VEVENT
DTSTART;TZID=America/Chicago:20250427T100000
DTEND;TZID=America/Chicago:20250427T110000
DTSTAMP:20260425T101419
CREATED:20250313T200911Z
LAST-MODIFIED:20250313T200911Z
UID:33969-1745748000-1745751600@easternmeadows.org
SUMMARY:AM Worship
DESCRIPTION:
URL:https://easternmeadows.org/event/am-worship-280/
LOCATION:Eastern Meadows Church of Christ\, 8460 Vaughn Road\, Montgomery\, AL\, 36117\, United States
CATEGORIES:Public
END:VEVENT
BEGIN:VEVENT
DTSTART;TZID=America/Chicago:20250427T170000
DTEND;TZID=America/Chicago:20250427T180000
DTSTAMP:20260425T101419
CREATED:20250313T200919Z
LAST-MODIFIED:20250313T200919Z
UID:33970-1745773200-1745776800@easternmeadows.org
SUMMARY:PM Worship
DESCRIPTION:
URL:https://easternmeadows.org/event/pm-worship-232/
LOCATION:Eastern Meadows Church of Christ\, 8460 Vaughn Road\, Montgomery\, AL\, 36117\, United States
CATEGORIES:Public
END:VEVENT
BEGIN:VEVENT
DTSTART;TZID=America/Chicago:20250430T183000
DTEND;TZID=America/Chicago:20250430T193000
DTSTAMP:20260425T101419
CREATED:20250313T201005Z
LAST-MODIFIED:20250313T201005Z
UID:33977-1746037800-1746041400@easternmeadows.org
SUMMARY:Mid-Week Bible Study
DESCRIPTION:
URL:https://easternmeadows.org/event/mid-week-bible-study-247/
LOCATION:Eastern Meadows Church of Christ\, 8460 Vaughn Road\, Montgomery\, AL\, 36117\, United States
CATEGORIES:Public
END:VEVENT
BEGIN:VEVENT
DTSTART;TZID=America/Chicago:20250504T090000
DTEND;TZID=America/Chicago:20250504T094500
DTSTAMP:20260425T101419
CREATED:20250414T160422Z
LAST-MODIFIED:20250414T160422Z
UID:34071-1746349200-1746351900@easternmeadows.org
SUMMARY:Bible Class
DESCRIPTION:
URL:https://easternmeadows.org/event/bible-class-248/
LOCATION:Eastern Meadows Church of Christ\, 8460 Vaughn Road\, Montgomery\, AL\, 36117\, United States
CATEGORIES:Public
END:VEVENT
BEGIN:VEVENT
DTSTART;TZID=America/Chicago:20250504T100000
DTEND;TZID=America/Chicago:20250504T110000
DTSTAMP:20260425T101419
CREATED:20250414T160432Z
LAST-MODIFIED:20250414T160432Z
UID:34072-1746352800-1746356400@easternmeadows.org
SUMMARY:AM Worship
DESCRIPTION:
URL:https://easternmeadows.org/event/am-worship-281/
LOCATION:Eastern Meadows Church of Christ\, 8460 Vaughn Road\, Montgomery\, AL\, 36117\, United States
CATEGORIES:Public
END:VEVENT
BEGIN:VEVENT
DTSTART;TZID=America/Chicago:20250504T170000
DTEND;TZID=America/Chicago:20250504T180000
DTSTAMP:20260425T101419
CREATED:20250414T160443Z
LAST-MODIFIED:20250414T160443Z
UID:34073-1746378000-1746381600@easternmeadows.org
SUMMARY:PM Worship
DESCRIPTION:
URL:https://easternmeadows.org/event/pm-worship-233/
LOCATION:Eastern Meadows Church of Christ\, 8460 Vaughn Road\, Montgomery\, AL\, 36117\, United States
CATEGORIES:Public
END:VEVENT
BEGIN:VEVENT
DTSTART;TZID=America/Chicago:20250507T183000
DTEND;TZID=America/Chicago:20250507T193000
DTSTAMP:20260425T101419
CREATED:20250414T160458Z
LAST-MODIFIED:20250414T160458Z
UID:34074-1746642600-1746646200@easternmeadows.org
SUMMARY:Mid-Week Bible Study
DESCRIPTION:
URL:https://easternmeadows.org/event/mid-week-bible-study-248/
LOCATION:Eastern Meadows Church of Christ\, 8460 Vaughn Road\, Montgomery\, AL\, 36117\, United States
CATEGORIES:Public
END:VEVENT
BEGIN:VEVENT
DTSTART;TZID=America/Chicago:20250511T090000
DTEND;TZID=America/Chicago:20250511T094500
DTSTAMP:20260425T101419
CREATED:20250414T161040Z
LAST-MODIFIED:20250414T161040Z
UID:34079-1746954000-1746956700@easternmeadows.org
SUMMARY:Bible Class
DESCRIPTION:
URL:https://easternmeadows.org/event/bible-class-249/
LOCATION:Eastern Meadows Church of Christ\, 8460 Vaughn Road\, Montgomery\, AL\, 36117\, United States
CATEGORIES:Public
END:VEVENT
BEGIN:VEVENT
DTSTART;TZID=America/Chicago:20250511T100000
DTEND;TZID=America/Chicago:20250511T110000
DTSTAMP:20260425T101419
CREATED:20250414T161049Z
LAST-MODIFIED:20250414T161049Z
UID:34080-1746957600-1746961200@easternmeadows.org
SUMMARY:AM Worship
DESCRIPTION:
URL:https://easternmeadows.org/event/am-worship-282/
LOCATION:Eastern Meadows Church of Christ\, 8460 Vaughn Road\, Montgomery\, AL\, 36117\, United States
CATEGORIES:Public
END:VEVENT
BEGIN:VEVENT
DTSTART;TZID=America/Chicago:20250511T170000
DTEND;TZID=America/Chicago:20250511T180000
DTSTAMP:20260425T101419
CREATED:20250414T161100Z
LAST-MODIFIED:20250414T161100Z
UID:34081-1746982800-1746986400@easternmeadows.org
SUMMARY:PM Worship
DESCRIPTION:
URL:https://easternmeadows.org/event/pm-worship-234/
LOCATION:Eastern Meadows Church of Christ\, 8460 Vaughn Road\, Montgomery\, AL\, 36117\, United States
CATEGORIES:Public
END:VEVENT
BEGIN:VEVENT
DTSTART;TZID=America/Chicago:20250514T183000
DTEND;TZID=America/Chicago:20250514T193000
DTSTAMP:20260425T101419
CREATED:20250414T161110Z
LAST-MODIFIED:20250414T161110Z
UID:34082-1747247400-1747251000@easternmeadows.org
SUMMARY:Mid-Week Bible Study
DESCRIPTION:
URL:https://easternmeadows.org/event/mid-week-bible-study-249/
LOCATION:Eastern Meadows Church of Christ\, 8460 Vaughn Road\, Montgomery\, AL\, 36117\, United States
CATEGORIES:Public
END:VEVENT
BEGIN:VEVENT
DTSTART;TZID=America/Chicago:20250518T090000
DTEND;TZID=America/Chicago:20250518T094500
DTSTAMP:20260425T101419
CREATED:20250414T161139Z
LAST-MODIFIED:20250414T161139Z
UID:34087-1747558800-1747561500@easternmeadows.org
SUMMARY:Bible Class
DESCRIPTION:
URL:https://easternmeadows.org/event/bible-class-250/
LOCATION:Eastern Meadows Church of Christ\, 8460 Vaughn Road\, Montgomery\, AL\, 36117\, United States
CATEGORIES:Public
END:VEVENT
BEGIN:VEVENT
DTSTART;TZID=America/Chicago:20250518T100000
DTEND;TZID=America/Chicago:20250518T110000
DTSTAMP:20260425T101419
CREATED:20250414T161150Z
LAST-MODIFIED:20250414T161150Z
UID:34088-1747562400-1747566000@easternmeadows.org
SUMMARY:AM Worship
DESCRIPTION:
URL:https://easternmeadows.org/event/am-worship-283/
LOCATION:Eastern Meadows Church of Christ\, 8460 Vaughn Road\, Montgomery\, AL\, 36117\, United States
CATEGORIES:Public
END:VEVENT
BEGIN:VEVENT
DTSTART;TZID=America/Chicago:20250518T170000
DTEND;TZID=America/Chicago:20250518T180000
DTSTAMP:20260425T101419
CREATED:20250414T161159Z
LAST-MODIFIED:20250414T161159Z
UID:34089-1747587600-1747591200@easternmeadows.org
SUMMARY:PM Worship
DESCRIPTION:
URL:https://easternmeadows.org/event/pm-worship-235/
LOCATION:Eastern Meadows Church of Christ\, 8460 Vaughn Road\, Montgomery\, AL\, 36117\, United States
CATEGORIES:Public
END:VEVENT
BEGIN:VEVENT
DTSTART;TZID=America/Chicago:20250521T183000
DTEND;TZID=America/Chicago:20250521T193000
DTSTAMP:20260425T101419
CREATED:20250414T161210Z
LAST-MODIFIED:20250414T161210Z
UID:34090-1747852200-1747855800@easternmeadows.org
SUMMARY:Mid-Week Bible Study
DESCRIPTION:
URL:https://easternmeadows.org/event/mid-week-bible-study-250/
LOCATION:Eastern Meadows Church of Christ\, 8460 Vaughn Road\, Montgomery\, AL\, 36117\, United States
CATEGORIES:Public
END:VEVENT
BEGIN:VEVENT
DTSTART;TZID=America/Chicago:20250525T090000
DTEND;TZID=America/Chicago:20250525T094500
DTSTAMP:20260425T101419
CREATED:20250414T161238Z
LAST-MODIFIED:20250414T161238Z
UID:34095-1748163600-1748166300@easternmeadows.org
SUMMARY:Bible Class
DESCRIPTION:
URL:https://easternmeadows.org/event/bible-class-251/
LOCATION:Eastern Meadows Church of Christ\, 8460 Vaughn Road\, Montgomery\, AL\, 36117\, United States
CATEGORIES:Public
END:VEVENT
BEGIN:VEVENT
DTSTART;TZID=America/Chicago:20250525T100000
DTEND;TZID=America/Chicago:20250525T110000
DTSTAMP:20260425T101419
CREATED:20250414T161249Z
LAST-MODIFIED:20250414T161249Z
UID:34096-1748167200-1748170800@easternmeadows.org
SUMMARY:AM Worship
DESCRIPTION:
URL:https://easternmeadows.org/event/am-worship-284/
LOCATION:Eastern Meadows Church of Christ\, 8460 Vaughn Road\, Montgomery\, AL\, 36117\, United States
CATEGORIES:Public
END:VEVENT
BEGIN:VEVENT
DTSTART;TZID=America/Chicago:20250525T170000
DTEND;TZID=America/Chicago:20250525T180000
DTSTAMP:20260425T101419
CREATED:20250414T161301Z
LAST-MODIFIED:20250414T161301Z
UID:34097-1748192400-1748196000@easternmeadows.org
SUMMARY:PM Worship
DESCRIPTION:
URL:https://easternmeadows.org/event/pm-worship-236/
LOCATION:Eastern Meadows Church of Christ\, 8460 Vaughn Road\, Montgomery\, AL\, 36117\, United States
CATEGORIES:Public
END:VEVENT
END:VCALENDAR