BEGIN:VCALENDAR
VERSION:2.0
PRODID:-//Eastern Meadows Church of Christ - ECPv6.15.20//NONSGML v1.0//EN
CALSCALE:GREGORIAN
METHOD:PUBLISH
X-WR-CALNAME:Eastern Meadows Church of Christ
X-ORIGINAL-URL:https://easternmeadows.org
X-WR-CALDESC:Events for Eastern Meadows Church of Christ
REFRESH-INTERVAL;VALUE=DURATION:PT1H
X-Robots-Tag:noindex
X-PUBLISHED-TTL:PT1H
BEGIN:VTIMEZONE
TZID:America/Chicago
BEGIN:DAYLIGHT
TZOFFSETFROM:-0600
TZOFFSETTO:-0500
TZNAME:CDT
DTSTART:20230312T080000
END:DAYLIGHT
BEGIN:STANDARD
TZOFFSETFROM:-0500
TZOFFSETTO:-0600
TZNAME:CST
DTSTART:20231105T070000
END:STANDARD
BEGIN:DAYLIGHT
TZOFFSETFROM:-0600
TZOFFSETTO:-0500
TZNAME:CDT
DTSTART:20240310T080000
END:DAYLIGHT
BEGIN:STANDARD
TZOFFSETFROM:-0500
TZOFFSETTO:-0600
TZNAME:CST
DTSTART:20241103T070000
END:STANDARD
BEGIN:DAYLIGHT
TZOFFSETFROM:-0600
TZOFFSETTO:-0500
TZNAME:CDT
DTSTART:20250309T080000
END:DAYLIGHT
BEGIN:STANDARD
TZOFFSETFROM:-0500
TZOFFSETTO:-0600
TZNAME:CST
DTSTART:20251102T070000
END:STANDARD
END:VTIMEZONE
BEGIN:VEVENT
DTSTART;TZID=America/Chicago:20240303T090000
DTEND;TZID=America/Chicago:20240303T094500
DTSTAMP:20260425T214009
CREATED:20231227T205907Z
LAST-MODIFIED:20231227T205907Z
UID:32619-1709456400-1709459100@easternmeadows.org
SUMMARY:Bible Class
DESCRIPTION:
URL:https://easternmeadows.org/event/bible-class-187/
LOCATION:Eastern Meadows Church of Christ\, 8460 Vaughn Road\, Montgomery\, AL\, 36117\, United States
CATEGORIES:Public
END:VEVENT
BEGIN:VEVENT
DTSTART;TZID=America/Chicago:20240303T100000
DTEND;TZID=America/Chicago:20240303T110000
DTSTAMP:20260425T214009
CREATED:20231227T205915Z
LAST-MODIFIED:20231227T205915Z
UID:32620-1709460000-1709463600@easternmeadows.org
SUMMARY:AM Worship
DESCRIPTION:
URL:https://easternmeadows.org/event/am-worship-220/
LOCATION:Eastern Meadows Church of Christ\, 8460 Vaughn Road\, Montgomery\, AL\, 36117\, United States
CATEGORIES:Public
END:VEVENT
BEGIN:VEVENT
DTSTART;TZID=America/Chicago:20240303T170000
DTEND;TZID=America/Chicago:20240303T180000
DTSTAMP:20260425T214009
CREATED:20231227T205923Z
LAST-MODIFIED:20231227T205923Z
UID:32621-1709485200-1709488800@easternmeadows.org
SUMMARY:PM Worship
DESCRIPTION:
URL:https://easternmeadows.org/event/pm-worship-172/
LOCATION:Eastern Meadows Church of Christ\, 8460 Vaughn Road\, Montgomery\, AL\, 36117\, United States
CATEGORIES:Public
END:VEVENT
BEGIN:VEVENT
DTSTART;TZID=America/Chicago:20240306T183000
DTEND;TZID=America/Chicago:20240306T193000
DTSTAMP:20260425T214009
CREATED:20231227T205954Z
LAST-MODIFIED:20231227T205954Z
UID:32626-1709749800-1709753400@easternmeadows.org
SUMMARY:Mid-Week Bible Study
DESCRIPTION:
URL:https://easternmeadows.org/event/mid-week-bible-study-188/
LOCATION:Eastern Meadows Church of Christ\, 8460 Vaughn Road\, Montgomery\, AL\, 36117\, United States
CATEGORIES:Public
END:VEVENT
BEGIN:VEVENT
DTSTART;TZID=America/Chicago:20240310T090000
DTEND;TZID=America/Chicago:20240310T094500
DTSTAMP:20260425T214009
CREATED:20231227T210010Z
LAST-MODIFIED:20231227T210010Z
UID:32627-1710061200-1710063900@easternmeadows.org
SUMMARY:Bible Class
DESCRIPTION:
URL:https://easternmeadows.org/event/bible-class-188/
LOCATION:Eastern Meadows Church of Christ\, 8460 Vaughn Road\, Montgomery\, AL\, 36117\, United States
CATEGORIES:Public
END:VEVENT
BEGIN:VEVENT
DTSTART;TZID=America/Chicago:20240310T100000
DTEND;TZID=America/Chicago:20240310T110000
DTSTAMP:20260425T214009
CREATED:20231227T210019Z
LAST-MODIFIED:20231227T210019Z
UID:32628-1710064800-1710068400@easternmeadows.org
SUMMARY:AM Worship
DESCRIPTION:
URL:https://easternmeadows.org/event/am-worship-221/
LOCATION:Eastern Meadows Church of Christ\, 8460 Vaughn Road\, Montgomery\, AL\, 36117\, United States
CATEGORIES:Public
END:VEVENT
BEGIN:VEVENT
DTSTART;TZID=America/Chicago:20240310T170000
DTEND;TZID=America/Chicago:20240310T180000
DTSTAMP:20260425T214009
CREATED:20231227T210026Z
LAST-MODIFIED:20231227T210026Z
UID:32629-1710090000-1710093600@easternmeadows.org
SUMMARY:PM Worship
DESCRIPTION:
URL:https://easternmeadows.org/event/pm-worship-173/
LOCATION:Eastern Meadows Church of Christ\, 8460 Vaughn Road\, Montgomery\, AL\, 36117\, United States
CATEGORIES:Public
END:VEVENT
BEGIN:VEVENT
DTSTART;TZID=America/Chicago:20240313T183000
DTEND;TZID=America/Chicago:20240313T193000
DTSTAMP:20260425T214009
CREATED:20231227T210100Z
LAST-MODIFIED:20231227T210100Z
UID:32634-1710354600-1710358200@easternmeadows.org
SUMMARY:Mid-Week Bible Study
DESCRIPTION:
URL:https://easternmeadows.org/event/mid-week-bible-study-189/
LOCATION:Eastern Meadows Church of Christ\, 8460 Vaughn Road\, Montgomery\, AL\, 36117\, United States
CATEGORIES:Public
END:VEVENT
BEGIN:VEVENT
DTSTART;TZID=America/Chicago:20240317T090000
DTEND;TZID=America/Chicago:20240317T094500
DTSTAMP:20260425T214009
CREATED:20231227T210110Z
LAST-MODIFIED:20231227T210110Z
UID:32635-1710666000-1710668700@easternmeadows.org
SUMMARY:Bible Class
DESCRIPTION:
URL:https://easternmeadows.org/event/bible-class-189/
LOCATION:Eastern Meadows Church of Christ\, 8460 Vaughn Road\, Montgomery\, AL\, 36117\, United States
CATEGORIES:Public
END:VEVENT
BEGIN:VEVENT
DTSTART;TZID=America/Chicago:20240317T100000
DTEND;TZID=America/Chicago:20240317T110000
DTSTAMP:20260425T214009
CREATED:20231227T210118Z
LAST-MODIFIED:20231227T210118Z
UID:32636-1710669600-1710673200@easternmeadows.org
SUMMARY:AM Worship
DESCRIPTION:
URL:https://easternmeadows.org/event/am-worship-222/
LOCATION:Eastern Meadows Church of Christ\, 8460 Vaughn Road\, Montgomery\, AL\, 36117\, United States
CATEGORIES:Public
END:VEVENT
BEGIN:VEVENT
DTSTART;TZID=America/Chicago:20240317T170000
DTEND;TZID=America/Chicago:20240317T180000
DTSTAMP:20260425T214009
CREATED:20231227T210126Z
LAST-MODIFIED:20231227T210126Z
UID:32637-1710694800-1710698400@easternmeadows.org
SUMMARY:PM Worship
DESCRIPTION:
URL:https://easternmeadows.org/event/pm-worship-174/
LOCATION:Eastern Meadows Church of Christ\, 8460 Vaughn Road\, Montgomery\, AL\, 36117\, United States
CATEGORIES:Public
END:VEVENT
BEGIN:VEVENT
DTSTART;TZID=America/Chicago:20240320T183000
DTEND;TZID=America/Chicago:20240320T193000
DTSTAMP:20260425T214009
CREATED:20231227T210219Z
LAST-MODIFIED:20231227T210219Z
UID:32642-1710959400-1710963000@easternmeadows.org
SUMMARY:Mid-Week Bible Study
DESCRIPTION:
URL:https://easternmeadows.org/event/mid-week-bible-study-190/
LOCATION:Eastern Meadows Church of Christ\, 8460 Vaughn Road\, Montgomery\, AL\, 36117\, United States
CATEGORIES:Public
END:VEVENT
BEGIN:VEVENT
DTSTART;TZID=America/Chicago:20240324T090000
DTEND;TZID=America/Chicago:20240324T094500
DTSTAMP:20260425T214010
CREATED:20231227T210247Z
LAST-MODIFIED:20231227T210247Z
UID:32643-1711270800-1711273500@easternmeadows.org
SUMMARY:Bible Class
DESCRIPTION:
URL:https://easternmeadows.org/event/bible-class-190/
LOCATION:Eastern Meadows Church of Christ\, 8460 Vaughn Road\, Montgomery\, AL\, 36117\, United States
CATEGORIES:Public
END:VEVENT
BEGIN:VEVENT
DTSTART;TZID=America/Chicago:20240324T100000
DTEND;TZID=America/Chicago:20240324T110000
DTSTAMP:20260425T214010
CREATED:20231227T210257Z
LAST-MODIFIED:20231227T210257Z
UID:32644-1711274400-1711278000@easternmeadows.org
SUMMARY:AM Worship
DESCRIPTION:
URL:https://easternmeadows.org/event/am-worship-223/
LOCATION:Eastern Meadows Church of Christ\, 8460 Vaughn Road\, Montgomery\, AL\, 36117\, United States
CATEGORIES:Public
END:VEVENT
BEGIN:VEVENT
DTSTART;TZID=America/Chicago:20240324T123000
DTEND;TZID=America/Chicago:20240324T133000
DTSTAMP:20260425T214010
CREATED:20231227T210306Z
LAST-MODIFIED:20240301T174023Z
UID:32645-1711283400-1711287000@easternmeadows.org
SUMMARY:PM Worship
DESCRIPTION:
URL:https://easternmeadows.org/event/pm-worship-175/
LOCATION:Eastern Meadows Church of Christ\, 8460 Vaughn Road\, Montgomery\, AL\, 36117\, United States
CATEGORIES:Public
END:VEVENT
BEGIN:VEVENT
DTSTART;TZID=America/Chicago:20240327T183000
DTEND;TZID=America/Chicago:20240327T193000
DTSTAMP:20260425T214010
CREATED:20231227T210359Z
LAST-MODIFIED:20231227T210359Z
UID:32651-1711564200-1711567800@easternmeadows.org
SUMMARY:Mid-Week Bible Study
DESCRIPTION:
URL:https://easternmeadows.org/event/mid-week-bible-study-191/
LOCATION:Eastern Meadows Church of Christ\, 8460 Vaughn Road\, Montgomery\, AL\, 36117\, United States
CATEGORIES:Public
END:VEVENT
BEGIN:VEVENT
DTSTART;TZID=America/Chicago:20240331T090000
DTEND;TZID=America/Chicago:20240331T094500
DTSTAMP:20260425T214010
CREATED:20231227T210411Z
LAST-MODIFIED:20231227T210411Z
UID:32652-1711875600-1711878300@easternmeadows.org
SUMMARY:Bible Class
DESCRIPTION:
URL:https://easternmeadows.org/event/bible-class-191/
LOCATION:Eastern Meadows Church of Christ\, 8460 Vaughn Road\, Montgomery\, AL\, 36117\, United States
CATEGORIES:Public
END:VEVENT
BEGIN:VEVENT
DTSTART;TZID=America/Chicago:20240331T100000
DTEND;TZID=America/Chicago:20240331T110000
DTSTAMP:20260425T214010
CREATED:20231227T210420Z
LAST-MODIFIED:20231227T210420Z
UID:32653-1711879200-1711882800@easternmeadows.org
SUMMARY:AM Worship
DESCRIPTION:
URL:https://easternmeadows.org/event/am-worship-224/
LOCATION:Eastern Meadows Church of Christ\, 8460 Vaughn Road\, Montgomery\, AL\, 36117\, United States
CATEGORIES:Public
END:VEVENT
BEGIN:VEVENT
DTSTART;TZID=America/Chicago:20240331T170000
DTEND;TZID=America/Chicago:20240331T180000
DTSTAMP:20260425T214010
CREATED:20231227T210428Z
LAST-MODIFIED:20231227T210428Z
UID:32654-1711904400-1711908000@easternmeadows.org
SUMMARY:PM Worship
DESCRIPTION:
URL:https://easternmeadows.org/event/pm-worship-176/
LOCATION:Eastern Meadows Church of Christ\, 8460 Vaughn Road\, Montgomery\, AL\, 36117\, United States
CATEGORIES:Public
END:VEVENT
END:VCALENDAR