BEGIN:VCALENDAR
VERSION:2.0
PRODID:-//Eastern Meadows Church of Christ - ECPv6.15.20//NONSGML v1.0//EN
CALSCALE:GREGORIAN
METHOD:PUBLISH
X-ORIGINAL-URL:https://easternmeadows.org
X-WR-CALDESC:Events for Eastern Meadows Church of Christ
REFRESH-INTERVAL;VALUE=DURATION:PT1H
X-Robots-Tag:noindex
X-PUBLISHED-TTL:PT1H
BEGIN:VTIMEZONE
TZID:America/Chicago
BEGIN:DAYLIGHT
TZOFFSETFROM:-0600
TZOFFSETTO:-0500
TZNAME:CDT
DTSTART:20230312T080000
END:DAYLIGHT
BEGIN:STANDARD
TZOFFSETFROM:-0500
TZOFFSETTO:-0600
TZNAME:CST
DTSTART:20231105T070000
END:STANDARD
BEGIN:DAYLIGHT
TZOFFSETFROM:-0600
TZOFFSETTO:-0500
TZNAME:CDT
DTSTART:20240310T080000
END:DAYLIGHT
BEGIN:STANDARD
TZOFFSETFROM:-0500
TZOFFSETTO:-0600
TZNAME:CST
DTSTART:20241103T070000
END:STANDARD
BEGIN:DAYLIGHT
TZOFFSETFROM:-0600
TZOFFSETTO:-0500
TZNAME:CDT
DTSTART:20250309T080000
END:DAYLIGHT
BEGIN:STANDARD
TZOFFSETFROM:-0500
TZOFFSETTO:-0600
TZNAME:CST
DTSTART:20251102T070000
END:STANDARD
END:VTIMEZONE
BEGIN:VEVENT
DTSTART;TZID=America/Chicago:20240602T090000
DTEND;TZID=America/Chicago:20240602T094500
DTSTAMP:20260425T084006
CREATED:20240424T020958Z
LAST-MODIFIED:20240424T020958Z
UID:32914-1717318800-1717321500@easternmeadows.org
SUMMARY:Bible Class
DESCRIPTION:
URL:https://easternmeadows.org/event/bible-class-200/
LOCATION:Eastern Meadows Church of Christ\, 8460 Vaughn Road\, Montgomery\, AL\, 36117\, United States
CATEGORIES:Public
END:VEVENT
BEGIN:VEVENT
DTSTART;TZID=America/Chicago:20240602T100000
DTEND;TZID=America/Chicago:20240602T110000
DTSTAMP:20260425T084006
CREATED:20240424T021009Z
LAST-MODIFIED:20240424T021009Z
UID:32915-1717322400-1717326000@easternmeadows.org
SUMMARY:AM Worship
DESCRIPTION:
URL:https://easternmeadows.org/event/am-worship-233/
LOCATION:Eastern Meadows Church of Christ\, 8460 Vaughn Road\, Montgomery\, AL\, 36117\, United States
CATEGORIES:Public
END:VEVENT
BEGIN:VEVENT
DTSTART;TZID=America/Chicago:20240602T170000
DTEND;TZID=America/Chicago:20240602T180000
DTSTAMP:20260425T084006
CREATED:20240424T021021Z
LAST-MODIFIED:20240424T021021Z
UID:32916-1717347600-1717351200@easternmeadows.org
SUMMARY:PM Worship
DESCRIPTION:
URL:https://easternmeadows.org/event/pm-worship-185/
LOCATION:Eastern Meadows Church of Christ\, 8460 Vaughn Road\, Montgomery\, AL\, 36117\, United States
CATEGORIES:Public
END:VEVENT
BEGIN:VEVENT
DTSTART;TZID=America/Chicago:20240605T183000
DTEND;TZID=America/Chicago:20240605T193000
DTSTAMP:20260425T084006
CREATED:20240424T021128Z
LAST-MODIFIED:20240424T021128Z
UID:32921-1717612200-1717615800@easternmeadows.org
SUMMARY:Mid-Week Bible Study
DESCRIPTION:
URL:https://easternmeadows.org/event/mid-week-bible-study-200/
LOCATION:Eastern Meadows Church of Christ\, 8460 Vaughn Road\, Montgomery\, AL\, 36117\, United States
CATEGORIES:Public
END:VEVENT
BEGIN:VEVENT
DTSTART;TZID=America/Chicago:20240609T090000
DTEND;TZID=America/Chicago:20240609T094500
DTSTAMP:20260425T084006
CREATED:20240424T021137Z
LAST-MODIFIED:20240424T021137Z
UID:32922-1717923600-1717926300@easternmeadows.org
SUMMARY:Bible Class
DESCRIPTION:
URL:https://easternmeadows.org/event/bible-class-201/
LOCATION:Eastern Meadows Church of Christ\, 8460 Vaughn Road\, Montgomery\, AL\, 36117\, United States
CATEGORIES:Public
END:VEVENT
BEGIN:VEVENT
DTSTART;TZID=America/Chicago:20240609T100000
DTEND;TZID=America/Chicago:20240609T110000
DTSTAMP:20260425T084006
CREATED:20240424T021145Z
LAST-MODIFIED:20240424T021145Z
UID:32923-1717927200-1717930800@easternmeadows.org
SUMMARY:AM Worship
DESCRIPTION:
URL:https://easternmeadows.org/event/am-worship-234/
LOCATION:Eastern Meadows Church of Christ\, 8460 Vaughn Road\, Montgomery\, AL\, 36117\, United States
CATEGORIES:Public
END:VEVENT
BEGIN:VEVENT
DTSTART;TZID=America/Chicago:20240609T170000
DTEND;TZID=America/Chicago:20240609T180000
DTSTAMP:20260425T084006
CREATED:20240424T021154Z
LAST-MODIFIED:20240424T021154Z
UID:32924-1717952400-1717956000@easternmeadows.org
SUMMARY:PM Worship
DESCRIPTION:
URL:https://easternmeadows.org/event/pm-worship-186/
LOCATION:Eastern Meadows Church of Christ\, 8460 Vaughn Road\, Montgomery\, AL\, 36117\, United States
CATEGORIES:Public
END:VEVENT
BEGIN:VEVENT
DTSTART;TZID=America/Chicago:20240610T093000
DTEND;TZID=America/Chicago:20240610T113000
DTSTAMP:20260425T084006
CREATED:20240602T170132Z
LAST-MODIFIED:20240602T170132Z
UID:32955-1718011800-1718019000@easternmeadows.org
SUMMARY:VBS
DESCRIPTION:
URL:https://easternmeadows.org/event/vbs-10/
LOCATION:Eastern Meadows Church of Christ\, 8460 Vaughn Road\, Montgomery\, AL\, 36117\, United States
CATEGORIES:Public
ATTACH;FMTTYPE=image/png:https://easternmeadows.org/wp-content/uploads/2024/05/VBS-2024-Instagram-Post.png
END:VEVENT
BEGIN:VEVENT
DTSTART;TZID=America/Chicago:20240611T093000
DTEND;TZID=America/Chicago:20240611T113000
DTSTAMP:20260425T084006
CREATED:20240602T170141Z
LAST-MODIFIED:20240602T170141Z
UID:32957-1718098200-1718105400@easternmeadows.org
SUMMARY:VBS
DESCRIPTION:
URL:https://easternmeadows.org/event/vbs-11/
LOCATION:Eastern Meadows Church of Christ\, 8460 Vaughn Road\, Montgomery\, AL\, 36117\, United States
CATEGORIES:Public
ATTACH;FMTTYPE=image/png:https://easternmeadows.org/wp-content/uploads/2024/05/VBS-2024-Instagram-Post.png
END:VEVENT
BEGIN:VEVENT
DTSTART;TZID=America/Chicago:20240612T093000
DTEND;TZID=America/Chicago:20240612T113000
DTSTAMP:20260425T084006
CREATED:20240602T170150Z
LAST-MODIFIED:20240602T170150Z
UID:32958-1718184600-1718191800@easternmeadows.org
SUMMARY:VBS
DESCRIPTION:
URL:https://easternmeadows.org/event/vbs-12/
LOCATION:Eastern Meadows Church of Christ\, 8460 Vaughn Road\, Montgomery\, AL\, 36117\, United States
CATEGORIES:Public
ATTACH;FMTTYPE=image/png:https://easternmeadows.org/wp-content/uploads/2024/05/VBS-2024-Instagram-Post.png
END:VEVENT
BEGIN:VEVENT
DTSTART;TZID=America/Chicago:20240612T183000
DTEND;TZID=America/Chicago:20240612T193000
DTSTAMP:20260425T084006
CREATED:20240424T021245Z
LAST-MODIFIED:20240424T021245Z
UID:32929-1718217000-1718220600@easternmeadows.org
SUMMARY:Mid-Week Bible Study
DESCRIPTION:
URL:https://easternmeadows.org/event/mid-week-bible-study-201/
LOCATION:Eastern Meadows Church of Christ\, 8460 Vaughn Road\, Montgomery\, AL\, 36117\, United States
CATEGORIES:Public
END:VEVENT
BEGIN:VEVENT
DTSTART;TZID=America/Chicago:20240613T093000
DTEND;TZID=America/Chicago:20240613T113000
DTSTAMP:20260425T084006
CREATED:20240602T170157Z
LAST-MODIFIED:20240602T170157Z
UID:32959-1718271000-1718278200@easternmeadows.org
SUMMARY:VBS
DESCRIPTION:
URL:https://easternmeadows.org/event/vbs-13/
LOCATION:Eastern Meadows Church of Christ\, 8460 Vaughn Road\, Montgomery\, AL\, 36117\, United States
CATEGORIES:Public
ATTACH;FMTTYPE=image/png:https://easternmeadows.org/wp-content/uploads/2024/05/VBS-2024-Instagram-Post.png
END:VEVENT
BEGIN:VEVENT
DTSTART;TZID=America/Chicago:20240616T090000
DTEND;TZID=America/Chicago:20240616T094500
DTSTAMP:20260425T084006
CREATED:20240424T021253Z
LAST-MODIFIED:20240424T021253Z
UID:32930-1718528400-1718531100@easternmeadows.org
SUMMARY:Bible Class
DESCRIPTION:
URL:https://easternmeadows.org/event/bible-class-202/
LOCATION:Eastern Meadows Church of Christ\, 8460 Vaughn Road\, Montgomery\, AL\, 36117\, United States
CATEGORIES:Public
END:VEVENT
BEGIN:VEVENT
DTSTART;TZID=America/Chicago:20240616T100000
DTEND;TZID=America/Chicago:20240616T110000
DTSTAMP:20260425T084006
CREATED:20240424T021301Z
LAST-MODIFIED:20240424T021301Z
UID:32931-1718532000-1718535600@easternmeadows.org
SUMMARY:AM Worship
DESCRIPTION:
URL:https://easternmeadows.org/event/am-worship-235/
LOCATION:Eastern Meadows Church of Christ\, 8460 Vaughn Road\, Montgomery\, AL\, 36117\, United States
CATEGORIES:Public
END:VEVENT
BEGIN:VEVENT
DTSTART;TZID=America/Chicago:20240616T170000
DTEND;TZID=America/Chicago:20240616T180000
DTSTAMP:20260425T084006
CREATED:20240424T021316Z
LAST-MODIFIED:20240424T021316Z
UID:32932-1718557200-1718560800@easternmeadows.org
SUMMARY:PM Worship
DESCRIPTION:
URL:https://easternmeadows.org/event/pm-worship-187/
LOCATION:Eastern Meadows Church of Christ\, 8460 Vaughn Road\, Montgomery\, AL\, 36117\, United States
CATEGORIES:Public
END:VEVENT
BEGIN:VEVENT
DTSTART;TZID=America/Chicago:20240619T183000
DTEND;TZID=America/Chicago:20240619T193000
DTSTAMP:20260425T084006
CREATED:20240424T021405Z
LAST-MODIFIED:20240424T021405Z
UID:32938-1718821800-1718825400@easternmeadows.org
SUMMARY:Mid-Week Bible Study
DESCRIPTION:
URL:https://easternmeadows.org/event/mid-week-bible-study-202/
LOCATION:Eastern Meadows Church of Christ\, 8460 Vaughn Road\, Montgomery\, AL\, 36117\, United States
CATEGORIES:Public
END:VEVENT
BEGIN:VEVENT
DTSTART;TZID=America/Chicago:20240623T090000
DTEND;TZID=America/Chicago:20240623T094500
DTSTAMP:20260425T084006
CREATED:20240424T021414Z
LAST-MODIFIED:20240424T021414Z
UID:32939-1719133200-1719135900@easternmeadows.org
SUMMARY:Bible Class
DESCRIPTION:
URL:https://easternmeadows.org/event/bible-class-203/
LOCATION:Eastern Meadows Church of Christ\, 8460 Vaughn Road\, Montgomery\, AL\, 36117\, United States
CATEGORIES:Public
END:VEVENT
BEGIN:VEVENT
DTSTART;TZID=America/Chicago:20240623T100000
DTEND;TZID=America/Chicago:20240623T110000
DTSTAMP:20260425T084006
CREATED:20240424T021424Z
LAST-MODIFIED:20240424T021424Z
UID:32940-1719136800-1719140400@easternmeadows.org
SUMMARY:AM Worship
DESCRIPTION:
URL:https://easternmeadows.org/event/am-worship-236/
LOCATION:Eastern Meadows Church of Christ\, 8460 Vaughn Road\, Montgomery\, AL\, 36117\, United States
CATEGORIES:Public
END:VEVENT
BEGIN:VEVENT
DTSTART;TZID=America/Chicago:20240623T170000
DTEND;TZID=America/Chicago:20240623T180000
DTSTAMP:20260425T084006
CREATED:20240424T021432Z
LAST-MODIFIED:20240424T021432Z
UID:32941-1719162000-1719165600@easternmeadows.org
SUMMARY:PM Worship
DESCRIPTION:
URL:https://easternmeadows.org/event/pm-worship-188/
LOCATION:Eastern Meadows Church of Christ\, 8460 Vaughn Road\, Montgomery\, AL\, 36117\, United States
CATEGORIES:Public
END:VEVENT
BEGIN:VEVENT
DTSTART;TZID=America/Chicago:20240626T183000
DTEND;TZID=America/Chicago:20240626T193000
DTSTAMP:20260425T084006
CREATED:20240424T021527Z
LAST-MODIFIED:20240424T021527Z
UID:32946-1719426600-1719430200@easternmeadows.org
SUMMARY:Mid-Week Bible Study
DESCRIPTION:
URL:https://easternmeadows.org/event/mid-week-bible-study-203/
LOCATION:Eastern Meadows Church of Christ\, 8460 Vaughn Road\, Montgomery\, AL\, 36117\, United States
CATEGORIES:Public
END:VEVENT
BEGIN:VEVENT
DTSTART;TZID=America/Chicago:20240630T090000
DTEND;TZID=America/Chicago:20240630T094500
DTSTAMP:20260425T084006
CREATED:20240424T021536Z
LAST-MODIFIED:20240424T021536Z
UID:32947-1719738000-1719740700@easternmeadows.org
SUMMARY:Bible Class
DESCRIPTION:
URL:https://easternmeadows.org/event/bible-class-204/
LOCATION:Eastern Meadows Church of Christ\, 8460 Vaughn Road\, Montgomery\, AL\, 36117\, United States
CATEGORIES:Public
END:VEVENT
BEGIN:VEVENT
DTSTART;TZID=America/Chicago:20240630T100000
DTEND;TZID=America/Chicago:20240630T110000
DTSTAMP:20260425T084006
CREATED:20240424T021543Z
LAST-MODIFIED:20240424T021543Z
UID:32948-1719741600-1719745200@easternmeadows.org
SUMMARY:AM Worship
DESCRIPTION:
URL:https://easternmeadows.org/event/am-worship-237/
LOCATION:Eastern Meadows Church of Christ\, 8460 Vaughn Road\, Montgomery\, AL\, 36117\, United States
CATEGORIES:Public
END:VEVENT
BEGIN:VEVENT
DTSTART;TZID=America/Chicago:20240630T170000
DTEND;TZID=America/Chicago:20240630T180000
DTSTAMP:20260425T084006
CREATED:20240424T021551Z
LAST-MODIFIED:20240424T021551Z
UID:32949-1719766800-1719770400@easternmeadows.org
SUMMARY:PM Worship
DESCRIPTION:
URL:https://easternmeadows.org/event/pm-worship-189/
LOCATION:Eastern Meadows Church of Christ\, 8460 Vaughn Road\, Montgomery\, AL\, 36117\, United States
CATEGORIES:Public
END:VEVENT
END:VCALENDAR